OziExplorer Map Data File Version 2.2
M888 - 612
\612.GIF
1 ,Map Code,
European 1950 (Portugal),WGS 84, 0.0000, 0.0000,WGS 84
Reserved 1
Reserved 2
Magnetic Variation,,,W
Map Projection,(UTM) Universal Transverse Mercator,PolyCal,No,AutoCalOnly,No,BSBUseWPX,No
Point01,xy, 270, 308,in, deg, , ,N, , ,W, grid, 29, 610000, 4101000,N
Point02,xy, 5245, 3019,in, deg, , ,N, , ,W, grid, 29, 625000, 4093000,N
Point03,xy, 5272, 20,in, deg, , ,N, , ,W, grid, 29, 625000, 4102000,N
Point04,xy, 243, 3308,in, deg, , ,N, , ,W, grid, 29, 610000, 4092000,N
Point05,xy, 1928, 1322,in, deg, , ,N, , ,W, grid, 29, 615000, 4098000,N
Point06,xy, 3587, 2003,in, deg, , ,N, , ,W, grid, 29, 620000, 4096000,N
Point07,xy, 3596, 1004,in, deg, , ,N, , ,W, grid, 29, 620000, 4099000,N
Point08,xy, 1919, 2322,in, deg, , ,N, , ,W, grid, 29, 615000, 4095000,N
Point09,xy, 2916, 2664,in, deg, , ,N, , ,W, grid, 29, 618000, 4094000,N
Point10,xy, , ,in, deg, , ,N, , ,W, grid, 29, , ,N
Point11,xy, , ,in, deg, , ,N, , ,W, grid, 29, , ,N
Point12,xy, , ,in, deg, , ,N, , ,W, grid, 29, , ,N
Point13,xy, , ,in, deg, , ,N, , ,W, grid, 29, , ,N
Point14,xy, , ,in, deg, , ,N, , ,W, grid, 29, , ,N
Point15,xy, , ,in, deg, , ,N, , ,W, grid, 29, , ,N
Point16,xy, , ,in, deg, , ,N, , ,W, grid, 29, , ,N
Point17,xy, , ,in, deg, , ,N, , ,W, grid, 29, , ,N
Point18,xy, , ,in, deg, , ,N, , ,W, grid, 29, , ,N
Point19,xy, , ,in, deg, , ,N, , ,W, grid, 29, , ,N
Point20,xy, , ,in, deg, , ,N, , ,W, grid, 29, , ,N
Point21,xy, , ,in, deg, , ,N, , ,W, grid, 29, , ,N
Point22,xy, , ,in, deg, , ,N, , ,W, grid, 29, , ,N
Point23,xy, , ,in, deg, , ,N, , ,W, grid, 29, , ,N
Point24,xy, , ,in, deg, , ,N, , ,W, grid, 29, , ,N
Point25,xy, , ,in, deg, , ,N, , ,W, grid, 29, , ,N
Point26,xy, , ,in, deg, , ,N, , ,W, grid, 29, , ,N
Point27,xy, , ,in, deg, , ,N, , ,W, grid, 29, , ,N
Point28,xy, , ,in, deg, , ,N, , ,W, grid, 29, , ,N
Point29,xy, , ,in, deg, , ,N, , ,W, grid, 29, , ,N
Point30,xy, , ,in, deg, , ,N, , ,W, grid, 29, , ,N
Projection Setup, 39.666666667, -8.131906667, 1.000000000, 200000.00, 300000.00,,,,,
Map Feature = MF ; Map Comment = MC These follow if they exist
Track File = TF These follow if they exist
Moving Map Parameters = MM? These follow if they exist
MM0,Yes
MMPNUM,4
MMPXY,1,0,0
MMPXY,2,5337,0
MMPXY,3,5337,3337
MMPXY,4,0,3337
MMPLL,1, -7.772087, 37.056539
MMPLL,2, -7.592004, 37.055829
MMPLL,3, -7.592667, 36.965588
MMPLL,4, -7.772537, 36.966293
MM1B,3.000613
Other Grid Setup
GRGRID,Yes,1 Km,No,8388608,12632256,1 Km,8388608,16777215,8,1,Yes,No,Yes,x
MOP,Map Open Position,0,0
IWH,Map Image Width/Height,5337,3337
