OziExplorer Map Data File Version 2.2
M888 - 583A
\583A.gif
1 ,Map Code,
European 1950 (Portugal),WGS 84, 0.0000, 0.0000,WGS 84
Reserved 1
Reserved 2
Magnetic Variation,,,W
Map Projection,(UTM) Universal Transverse Mercator,PolyCal,No,AutoCalOnly,No,BSBUseWPX,No
Point01,xy, 10, 294,in, deg, , ,N, , ,W, grid, 29, 497000, 4130000,N
Point02,xy, 5319, 3009,in, deg, , ,N, , ,W, grid, 29, 513000, 4122000,N
Point03,xy, 5011, 7,in, deg, , ,N, , ,W, grid, 29, 512000, 4131000,N
Point04,xy, 315, 3296,in, deg, , ,N, , ,W, grid, 29, 498000, 4121000,N
Point05,xy, 1667, 1309,in, deg, , ,N, , ,W, grid, 29, 502000, 4127000,N
Point06,xy, 3661, 1994,in, deg, , ,N, , ,W, grid, 29, 508000, 4125000,N
Point07,xy, 3337, 991,in, deg, , ,N, , ,W, grid, 29, 507000, 4128000,N
Point08,xy, 1991, 2311,in, deg, , ,N, , ,W, grid, 29, 503000, 4124000,N
Point09,xy, 2989, 2654,in, deg, , ,N, , ,W, grid, 29, 506000, 4123000,N
Point10,xy, , ,in, deg, , ,N, , ,W, grid, 29, , ,N
Point11,xy, , ,in, deg, , ,N, , ,W, grid, 29, , ,N
Point12,xy, , ,in, deg, , ,N, , ,W, grid, 29, , ,N
Point13,xy, , ,in, deg, , ,N, , ,W, grid, 29, , ,N
Point14,xy, , ,in, deg, , ,N, , ,W, grid, 29, , ,N
Point15,xy, , ,in, deg, , ,N, , ,W, grid, 29, , ,N
Point16,xy, , ,in, deg, , ,N, , ,W, grid, 29, , ,N
Point17,xy, , ,in, deg, , ,N, , ,W, grid, 29, , ,N
Point18,xy, , ,in, deg, , ,N, , ,W, grid, 29, , ,N
Point19,xy, , ,in, deg, , ,N, , ,W, grid, 29, , ,N
Point20,xy, , ,in, deg, , ,N, , ,W, grid, 29, , ,N
Point21,xy, , ,in, deg, , ,N, , ,W, grid, 29, , ,N
Point22,xy, , ,in, deg, , ,N, , ,W, grid, 29, , ,N
Point23,xy, , ,in, deg, , ,N, , ,W, grid, 29, , ,N
Point24,xy, , ,in, deg, , ,N, , ,W, grid, 29, , ,N
Point25,xy, , ,in, deg, , ,N, , ,W, grid, 29, , ,N
Point26,xy, , ,in, deg, , ,N, , ,W, grid, 29, , ,N
Point27,xy, , ,in, deg, , ,N, , ,W, grid, 29, , ,N
Point28,xy, , ,in, deg, , ,N, , ,W, grid, 29, , ,N
Point29,xy, , ,in, deg, , ,N, , ,W, grid, 29, , ,N
Point30,xy, , ,in, deg, , ,N, , ,W, grid, 29, , ,N
Projection Setup, 39.666666667, -8.131906667, 1.000000000, 200000.00, 300000.00,,,,,
Map Feature = MF ; Map Comment = MC These follow if they exist
Track File = TF These follow if they exist
Moving Map Parameters = MM? These follow if they exist
MM0,Yes
MMPNUM,4
MMPXY,1,0,0
MMPXY,2,5336,0
MMPXY,3,5336,3336
MMPXY,4,0,3336
MMPLL,1, -9.034269, 37.323974
MMPLL,2, -8.853590, 37.325226
MMPLL,3, -8.852757, 37.234992
MMPLL,4, -9.033220, 37.233741
MM1B,3.000021
Other Grid Setup
GRGRID,Yes,1 Km,No,8388608,12632256,1 Km,8388608,16777215,8,1,Yes,No,Yes,x
MOP,Map Open Position,0,0
IWH,Map Image Width/Height,5336,3336
