OziExplorer Map Data File Version 2.2
M888 - 583
\583.GIF
1 ,Map Code,
European 1950 (Portugal),WGS 84, 0.0000, 0.0000,WGS 84
Reserved 1
Reserved 2
Magnetic Variation,,,W
Map Projection,(UTM) Universal Transverse Mercator,PolyCal,No,AutoCalOnly,No,BSBUseWPX,No
Point01,xy, 62, 15,in, deg, , ,N, , ,W, grid, 29, 625000, 4142000,N
Point02,xy, 5032, 3064,in, deg, , ,N, , ,W, grid, 29, 640000, 4133000,N
Point03,xy, 5061, 65,in, deg, , ,N, , ,W, grid, 29, 640000, 4142000,N
Point04,xy, 34, 3017,in, deg, , ,N, , ,W, grid, 29, 625000, 4133000,N
Point05,xy, 1720, 1033,in, deg, , ,N, , ,W, grid, 29, 630000, 4139000,N
Point06,xy, 3375, 2047,in, deg, , ,N, , ,W, grid, 29, 635000, 4136000,N
Point07,xy, 3384, 1048,in, deg, , ,N, , ,W, grid, 29, 635000, 4139000,N
Point08,xy, 1710, 2032,in, deg, , ,N, , ,W, grid, 29, 630000, 4136000,N
Point09,xy, 2703, 2708,in, deg, , ,N, , ,W, grid, 29, 633000, 4134000,N
Point10,xy, , ,in, deg, , ,N, , ,W, grid, 29, , ,N
Point11,xy, , ,in, deg, , ,N, , ,W, grid, 29, , ,N
Point12,xy, , ,in, deg, , ,N, , ,W, grid, 29, , ,N
Point13,xy, , ,in, deg, , ,N, , ,W, grid, 29, , ,N
Point14,xy, , ,in, deg, , ,N, , ,W, grid, 29, , ,N
Point15,xy, , ,in, deg, , ,N, , ,W, grid, 29, , ,N
Point16,xy, , ,in, deg, , ,N, , ,W, grid, 29, , ,N
Point17,xy, , ,in, deg, , ,N, , ,W, grid, 29, , ,N
Point18,xy, , ,in, deg, , ,N, , ,W, grid, 29, , ,N
Point19,xy, , ,in, deg, , ,N, , ,W, grid, 29, , ,N
Point20,xy, , ,in, deg, , ,N, , ,W, grid, 29, , ,N
Point21,xy, , ,in, deg, , ,N, , ,W, grid, 29, , ,N
Point22,xy, , ,in, deg, , ,N, , ,W, grid, 29, , ,N
Point23,xy, , ,in, deg, , ,N, , ,W, grid, 29, , ,N
Point24,xy, , ,in, deg, , ,N, , ,W, grid, 29, , ,N
Point25,xy, , ,in, deg, , ,N, , ,W, grid, 29, , ,N
Point26,xy, , ,in, deg, , ,N, , ,W, grid, 29, , ,N
Point27,xy, , ,in, deg, , ,N, , ,W, grid, 29, , ,N
Point28,xy, , ,in, deg, , ,N, , ,W, grid, 29, , ,N
Point29,xy, , ,in, deg, , ,N, , ,W, grid, 29, , ,N
Point30,xy, , ,in, deg, , ,N, , ,W, grid, 29, , ,N
Projection Setup, 39.666666667, -8.131906667, 1.000000000, 200000.00, 300000.00,,,,,
Map Feature = MF ; Map Comment = MC These follow if they exist
Track File = TF These follow if they exist
Moving Map Parameters = MM? These follow if they exist
MM0,Yes
MMPNUM,4
MMPXY,1,0,0
MMPXY,2,5336,0
MMPXY,3,5336,3336
MMPXY,4,0,3336
MMPLL,1, -7.589614, 37.416203
MMPLL,2, -7.408701, 37.415293
MMPLL,3, -7.409535, 37.325112
MMPLL,4, -7.590232, 37.326016
MM1B,3.000870
Other Grid Setup
GRGRID,Yes,1 Km,No,8388608,12632256,1 Km,8388608,16777215,8,1,Yes,No,Yes,x
MOP,Map Open Position,0,0
IWH,Map Image Width/Height,5336,3336
