OziExplorer Map Data File Version 2.2
M888 - 525
\525.GIF
1 ,Map Code,
European 1950 (Portugal),WGS 84, 0.0000, 0.0000,WGS 84
Reserved 1
Reserved 2
Magnetic Variation,,,W
Map Projection,(UTM) Universal Transverse Mercator,PolyCal,No,AutoCalOnly,No,BSBUseWPX,No
Point01,xy, 279, 111,in, deg, , ,N, , ,W, grid, 29, 657000, 4212000,N
Point02,xy, 5249, 3157,in, deg, , ,N, , ,W, grid, 29, 672000, 4203000,N
Point03,xy, 5278, 158,in, deg, , ,N, , ,W, grid, 29, 672000, 4212000,N
Point04,xy, 251, 3112,in, deg, , ,N, , ,W, grid, 29, 657000, 4203000,N
Point05,xy, 1936, 1127,in, deg, , ,N, , ,W, grid, 29, 662000, 4209000,N
Point06,xy, 3592, 2142,in, deg, , ,N, , ,W, grid, 29, 667000, 4206000,N
Point07,xy, 3602, 1143,in, deg, , ,N, , ,W, grid, 29, 667000, 4209000,N
Point08,xy, 1926, 2127,in, deg, , ,N, , ,W, grid, 29, 662000, 4206000,N
Point09,xy, 2920, 2803,in, deg, , ,N, , ,W, grid, 29, 665000, 4204000,N
Point10,xy, , ,in, deg, , ,N, , ,W, grid, 29, , ,N
Point11,xy, , ,in, deg, , ,N, , ,W, grid, 29, , ,N
Point12,xy, , ,in, deg, , ,N, , ,W, grid, 29, , ,N
Point13,xy, , ,in, deg, , ,N, , ,W, grid, 29, , ,N
Point14,xy, , ,in, deg, , ,N, , ,W, grid, 29, , ,N
Point15,xy, , ,in, deg, , ,N, , ,W, grid, 29, , ,N
Point16,xy, , ,in, deg, , ,N, , ,W, grid, 29, , ,N
Point17,xy, , ,in, deg, , ,N, , ,W, grid, 29, , ,N
Point18,xy, , ,in, deg, , ,N, , ,W, grid, 29, , ,N
Point19,xy, , ,in, deg, , ,N, , ,W, grid, 29, , ,N
Point20,xy, , ,in, deg, , ,N, , ,W, grid, 29, , ,N
Point21,xy, , ,in, deg, , ,N, , ,W, grid, 29, , ,N
Point22,xy, , ,in, deg, , ,N, , ,W, grid, 29, , ,N
Point23,xy, , ,in, deg, , ,N, , ,W, grid, 29, , ,N
Point24,xy, , ,in, deg, , ,N, , ,W, grid, 29, , ,N
Point25,xy, , ,in, deg, , ,N, , ,W, grid, 29, , ,N
Point26,xy, , ,in, deg, , ,N, , ,W, grid, 29, , ,N
Point27,xy, , ,in, deg, , ,N, , ,W, grid, 29, , ,N
Point28,xy, , ,in, deg, , ,N, , ,W, grid, 29, , ,N
Point29,xy, , ,in, deg, , ,N, , ,W, grid, 29, , ,N
Point30,xy, , ,in, deg, , ,N, , ,W, grid, 29, , ,N
Projection Setup, 39.666666667, -8.131906667, 1.000000000, 200000.00, 300000.00,,,,,
Map Feature = MF ; Map Comment = MC These follow if they exist
Track File = TF These follow if they exist
Moving Map Parameters = MM? These follow if they exist
MM0,Yes
MMPNUM,4
MMPXY,1,0,0
MMPXY,2,5336,0
MMPXY,3,5336,3336
MMPXY,4,0,3336
MMPLL,1, -7.220437, 38.044590
MMPLL,2, -7.038033, 38.043017
MMPLL,3, -7.039352, 37.952858
MMPLL,4, -7.221533, 37.954423
MM1B,3.000637
Other Grid Setup
GRGRID,Yes,1 Km,No,8388608,12632256,1 Km,8388608,16777215,8,1,Yes,No,Yes,x
MOP,Map Open Position,0,0
IWH,Map Image Width/Height,5336,3336
