OziExplorer Map Data File Version 2.2
M888 - 515A
\515A.GIF
1 ,Map Code,
European 1950 (Portugal),WGS 84, 0.0000, 0.0000,WGS 84
Reserved 1
Reserved 2
Magnetic Variation,,,W
Map Projection,(UTM) Universal Transverse Mercator,PolyCal,No,AutoCalOnly,No,BSBUseWPX,No
Point01,xy, 260, 282,in, deg, , ,N, , ,W, grid, 29, 497000, 4210000,N
Point02,xy, 5230, 3328,in, deg, , ,N, , ,W, grid, 29, 512000, 4201000,N
Point03,xy, 5260, 329,in, deg, , ,N, , ,W, grid, 29, 512000, 4210000,N
Point04,xy, 233, 3283,in, deg, , ,N, , ,W, grid, 29, 497000, 4201000,N
Point05,xy, 1917, 1297,in, deg, , ,N, , ,W, grid, 29, 502000, 4207000,N
Point06,xy, 3574, 2312,in, deg, , ,N, , ,W, grid, 29, 507000, 4204000,N
Point07,xy, 3584, 1312,in, deg, , ,N, , ,W, grid, 29, 507000, 4207000,N
Point08,xy, 1908, 2297,in, deg, , ,N, , ,W, grid, 29, 502000, 4204000,N
Point09,xy, 2902, 2974,in, deg, , ,N, , ,W, grid, 29, 505000, 4202000,N
Point10,xy, , ,in, deg, , ,N, , ,W, grid, , , ,N
Point11,xy, , ,in, deg, , ,N, , ,W, grid, , , ,N
Point12,xy, , ,in, deg, , ,N, , ,W, grid, , , ,N
Point13,xy, , ,in, deg, , ,N, , ,W, grid, , , ,N
Point14,xy, , ,in, deg, , ,N, , ,W, grid, , , ,N
Point15,xy, , ,in, deg, , ,N, , ,W, grid, , , ,N
Point16,xy, , ,in, deg, , ,N, , ,W, grid, , , ,N
Point17,xy, , ,in, deg, , ,N, , ,W, grid, , , ,N
Point18,xy, , ,in, deg, , ,N, , ,W, grid, , , ,N
Point19,xy, , ,in, deg, , ,N, , ,W, grid, , , ,N
Point20,xy, , ,in, deg, , ,N, , ,W, grid, , , ,N
Point21,xy, , ,in, deg, , ,N, , ,W, grid, , , ,N
Point22,xy, , ,in, deg, , ,N, , ,W, grid, , , ,N
Point23,xy, , ,in, deg, , ,N, , ,W, grid, , , ,N
Point24,xy, , ,in, deg, , ,N, , ,W, grid, , , ,N
Point25,xy, , ,in, deg, , ,N, , ,W, grid, , , ,N
Point26,xy, , ,in, deg, , ,N, , ,W, grid, , , ,N
Point27,xy, , ,in, deg, , ,N, , ,W, grid, , , ,N
Point28,xy, , ,in, deg, , ,N, , ,W, grid, , , ,N
Point29,xy, , ,in, deg, , ,N, , ,W, grid, , , ,N
Point30,xy, , ,in, deg, , ,N, , ,W, grid, , , ,N
Projection Setup, 39.666666667, -8.131906667, 1.000000000, 200000.00, 300000.00,,,,,
Map Feature = MF ; Map Comment = MC These follow if they exist
Track File = TF These follow if they exist
Moving Map Parameters = MM? These follow if they exist
MM0,Yes
MMPNUM,4
MMPXY,1,0,0
MMPXY,2,5341,0
MMPXY,3,5341,4014
MMPXY,4,0,4014
MMPLL,1, -9.043197, 38.044636
MMPLL,2, -8.860553, 38.045891
MMPLL,3, -8.859464, 37.937381
MMPLL,4, -9.041839, 37.936127
MM1B,3.000645
Other Grid Setup
GRGRID,Yes,1 Km,No,8388608,12632256,1 Km,8388608,16777215,8,1,Yes,No,Yes,x
MOP,Map Open Position,0,0
IWH,Map Image Width/Height,5341,4014
