OziExplorer Map Data File Version 2.2
M888 - 515
\515.GIF
1 ,Map Code,
European 1950 (Portugal),WGS 84, 0.0000, 0.0000,WGS 84
Reserved 1
Reserved 2
Magnetic Variation,,,W
Map Projection,(UTM) Universal Transverse Mercator,PolyCal,No,AutoCalOnly,No,BSBUseWPX,No
Point01,xy, 312, 159,in, deg, , ,N, , ,W, grid, 29, 673000, 4222000,N
Point02,xy, 5282, 3207,in, deg, , ,N, , ,W, grid, 29, 688000, 4213000,N
Point03,xy, 5312, 208,in, deg, , ,N, , ,W, grid, 29, 688000, 4222000,N
Point04,xy, 283, 3160,in, deg, , ,N, , ,W, grid, 29, 673000, 4213000,N
Point05,xy, 1969, 1176,in, deg, , ,N, , ,W, grid, 29, 678000, 4219000,N
Point06,xy, 3626, 2192,in, deg, , ,N, , ,W, grid, 29, 683000, 4216000,N
Point07,xy, 3636, 1192,in, deg, , ,N, , ,W, grid, 29, 683000, 4219000,N
Point08,xy, 1960, 2176,in, deg, , ,N, , ,W, grid, 29, 678000, 4216000,N
Point09,xy, 2953, 2852,in, deg, , ,N, , ,W, grid, 29, 681000, 4214000,N
Point10,xy, , ,in, deg, , ,N, , ,W, grid, 29, , ,N
Point11,xy, , ,in, deg, , ,N, , ,W, grid, 29, , ,N
Point12,xy, , ,in, deg, , ,N, , ,W, grid, 29, , ,N
Point13,xy, , ,in, deg, , ,N, , ,W, grid, 29, , ,N
Point14,xy, , ,in, deg, , ,N, , ,W, grid, 29, , ,N
Point15,xy, , ,in, deg, , ,N, , ,W, grid, 29, , ,N
Point16,xy, , ,in, deg, , ,N, , ,W, grid, 29, , ,N
Point17,xy, , ,in, deg, , ,N, , ,W, grid, 29, , ,N
Point18,xy, , ,in, deg, , ,N, , ,W, grid, 29, , ,N
Point19,xy, , ,in, deg, , ,N, , ,W, grid, 29, , ,N
Point20,xy, , ,in, deg, , ,N, , ,W, grid, 29, , ,N
Point21,xy, , ,in, deg, , ,N, , ,W, grid, 29, , ,N
Point22,xy, , ,in, deg, , ,N, , ,W, grid, 29, , ,N
Point23,xy, , ,in, deg, , ,N, , ,W, grid, 29, , ,N
Point24,xy, , ,in, deg, , ,N, , ,W, grid, 29, , ,N
Point25,xy, , ,in, deg, , ,N, , ,W, grid, 29, , ,N
Point26,xy, , ,in, deg, , ,N, , ,W, grid, 29, , ,N
Point27,xy, , ,in, deg, , ,N, , ,W, grid, 29, , ,N
Point28,xy, , ,in, deg, , ,N, , ,W, grid, 29, , ,N
Point29,xy, , ,in, deg, , ,N, , ,W, grid, 29, , ,N
Point30,xy, , ,in, deg, , ,N, , ,W, grid, 29, , ,N
Projection Setup, 39.666666667, -8.131906667, 1.000000000, 200000.00, 300000.00,,,,,
Map Feature = MF ; Map Comment = MC These follow if they exist
Track File = TF These follow if they exist
Moving Map Parameters = MM? These follow if they exist
MM0,Yes
MMPNUM,4
MMPXY,1,0,0
MMPXY,2,5337,0
MMPXY,3,5337,3336
MMPXY,4,0,3336
MMPLL,1, -7.036911, 38.133066
MMPLL,2, -6.854306, 38.131261
MMPLL,3, -6.855823, 38.041114
MMPLL,4, -7.038204, 38.042912
MM1B,3.000008
Other Grid Setup
GRGRID,Yes,1 Km,No,8388608,12632256,1 Km,8388608,16777215,8,1,Yes,No,Yes,x
MOP,Map Open Position,0,0
IWH,Map Image Width/Height,5337,3336
