OziExplorer Map Data File Version 2.2
M888 - 483A
\483A.GIF
1 ,Map Code,
European 1950 (Portugal),WGS 84, 0.0000, 0.0000,WGS 84
Reserved 1
Reserved 2
Magnetic Variation,,,W
Map Projection,(UTM) Universal Transverse Mercator,PolyCal,No,AutoCalOnly,No,BSBUseWPX,No
Point01,xy, 70, 108,in, deg, , ,N, , ,W, grid, 29, 656000, 4252000,N
Point02,xy, 5039, 3154,in, deg, , ,N, , ,W, grid, 29, 671000, 4243000,N
Point03,xy, 5070, 157,in, deg, , ,N, , ,W, grid, 29, 671000, 4252000,N
Point04,xy, 42, 3107,in, deg, , ,N, , ,W, grid, 29, 656000, 4243000,N
Point05,xy, 1727, 1123,in, deg, , ,N, , ,W, grid, 29, 661000, 4249000,N
Point06,xy, 3383, 2139,in, deg, , ,N, , ,W, grid, 29, 666000, 4246000,N
Point07,xy, 3393, 1139,in, deg, , ,N, , ,W, grid, 29, 666000, 4249000,N
Point08,xy, 1718, 2123,in, deg, , ,N, , ,W, grid, 29, 661000, 4246000,N
Point09,xy, 2711, 2799,in, deg, , ,N, , ,W, grid, 29, 664000, 4244000,N
Point10,xy, , ,in, deg, , ,N, , ,W, grid, , , ,N
Point11,xy, , ,in, deg, , ,N, , ,W, grid, , , ,N
Point12,xy, , ,in, deg, , ,N, , ,W, grid, , , ,N
Point13,xy, , ,in, deg, , ,N, , ,W, grid, , , ,N
Point14,xy, , ,in, deg, , ,N, , ,W, grid, , , ,N
Point15,xy, , ,in, deg, , ,N, , ,W, grid, , , ,N
Point16,xy, , ,in, deg, , ,N, , ,W, grid, , , ,N
Point17,xy, , ,in, deg, , ,N, , ,W, grid, , , ,N
Point18,xy, , ,in, deg, , ,N, , ,W, grid, , , ,N
Point19,xy, , ,in, deg, , ,N, , ,W, grid, , , ,N
Point20,xy, , ,in, deg, , ,N, , ,W, grid, , , ,N
Point21,xy, , ,in, deg, , ,N, , ,W, grid, , , ,N
Point22,xy, , ,in, deg, , ,N, , ,W, grid, , , ,N
Point23,xy, , ,in, deg, , ,N, , ,W, grid, , , ,N
Point24,xy, , ,in, deg, , ,N, , ,W, grid, , , ,N
Point25,xy, , ,in, deg, , ,N, , ,W, grid, , , ,N
Point26,xy, , ,in, deg, , ,N, , ,W, grid, , , ,N
Point27,xy, , ,in, deg, , ,N, , ,W, grid, , , ,N
Point28,xy, , ,in, deg, , ,N, , ,W, grid, , , ,N
Point29,xy, , ,in, deg, , ,N, , ,W, grid, , , ,N
Point30,xy, , ,in, deg, , ,N, , ,W, grid, , , ,N
Projection Setup, 39.666666667, -8.131906667, 1.000000000, 200000.00, 300000.00,,,,,
Map Feature = MF ; Map Comment = MC These follow if they exist
Track File = TF These follow if they exist
Moving Map Parameters = MM? These follow if they exist
MM0,Yes
MMPNUM,4
MMPXY,1,0,0
MMPXY,2,5337,0
MMPXY,3,5337,3336
MMPXY,4,0,3336
MMPLL,1, -7.215926, 38.404935
MMPLL,2, -7.032579, 38.403387
MMPLL,3, -7.033902, 38.313180
MMPLL,4, -7.217022, 38.314721
MM1B,3.000723
Other Grid Setup
GRGRID,Yes,1 Km,No,8388608,12632256,1 Km,8388608,16777215,8,1,Yes,No,Yes,x
MOP,Map Open Position,0,0
IWH,Map Image Width/Height,5337,3336
