OziExplorer Map Data File Version 2.2
M888 - 483
\483.GIF
1 ,Map Code,
European 1950 (Portugal),WGS 84, 0.0000, 0.0000,WGS 84
Reserved 1
Reserved 2
Magnetic Variation,,,W
Map Projection,(UTM) Universal Transverse Mercator,PolyCal,No,AutoCalOnly,No,BSBUseWPX,No
Point01,xy, 71, 55,in, deg, , ,N, , ,W, grid, 29, 640000, 4252000,N
Point02,xy, 5040, 3103,in, deg, , ,N, , ,W, grid, 29, 655000, 4243000,N
Point03,xy, 5069, 104,in, deg, , ,N, , ,W, grid, 29, 655000, 4252000,N
Point04,xy, 41, 3056,in, deg, , ,N, , ,W, grid, 29, 640000, 4243000,N
Point05,xy, 1727, 1072,in, deg, , ,N, , ,W, grid, 29, 645000, 4249000,N
Point06,xy, 3383, 2087,in, deg, , ,N, , ,W, grid, 29, 650000, 4246000,N
Point07,xy, 3392, 1088,in, deg, , ,N, , ,W, grid, 29, 650000, 4249000,N
Point08,xy, 1717, 2072,in, deg, , ,N, , ,W, grid, 29, 645000, 4246000,N
Point09,xy, 2710, 2748,in, deg, , ,N, , ,W, grid, 29, 648000, 4244000,N
Point10,xy, , ,in, deg, , ,N, , ,W, grid, 29, , ,N
Point11,xy, , ,in, deg, , ,N, , ,W, grid, 29, , ,N
Point12,xy, , ,in, deg, , ,N, , ,W, grid, 29, , ,N
Point13,xy, , ,in, deg, , ,N, , ,W, grid, 29, , ,N
Point14,xy, , ,in, deg, , ,N, , ,W, grid, 29, , ,N
Point15,xy, , ,in, deg, , ,N, , ,W, grid, 29, , ,N
Point16,xy, , ,in, deg, , ,N, , ,W, grid, 29, , ,N
Point17,xy, , ,in, deg, , ,N, , ,W, grid, 29, , ,N
Point18,xy, , ,in, deg, , ,N, , ,W, grid, 29, , ,N
Point19,xy, , ,in, deg, , ,N, , ,W, grid, 29, , ,N
Point20,xy, , ,in, deg, , ,N, , ,W, grid, 29, , ,N
Point21,xy, , ,in, deg, , ,N, , ,W, grid, 29, , ,N
Point22,xy, , ,in, deg, , ,N, , ,W, grid, 29, , ,N
Point23,xy, , ,in, deg, , ,N, , ,W, grid, 29, , ,N
Point24,xy, , ,in, deg, , ,N, , ,W, grid, 29, , ,N
Point25,xy, , ,in, deg, , ,N, , ,W, grid, 29, , ,N
Point26,xy, , ,in, deg, , ,N, , ,W, grid, 29, , ,N
Point27,xy, , ,in, deg, , ,N, , ,W, grid, 29, , ,N
Point28,xy, , ,in, deg, , ,N, , ,W, grid, 29, , ,N
Point29,xy, , ,in, deg, , ,N, , ,W, grid, 29, , ,N
Point30,xy, , ,in, deg, , ,N, , ,W, grid, 29, , ,N
Projection Setup, 39.666666667, -8.131906667, 1.000000000, 200000.00, 300000.00,,,,,
Map Feature = MF ; Map Comment = MC These follow if they exist
Track File = TF These follow if they exist
Moving Map Parameters = MM? These follow if they exist
MM0,Yes
MMPNUM,4
MMPXY,1,0,0
MMPXY,2,5336,0
MMPXY,3,5336,3336
MMPXY,4,0,3336
MMPLL,1, -7.399099, 38.406163
MMPLL,2, -7.215767, 38.404892
MMPLL,3, -7.216856, 38.314728
MMPLL,4, -7.399961, 38.315992
MM1B,3.000739
Other Grid Setup
GRGRID,Yes,1 Km,No,8388608,12632256,1 Km,8388608,16777215,8,1,Yes,No,Yes,x
MOP,Map Open Position,0,0
IWH,Map Image Width/Height,5336,3336
