OziExplorer Map Data File Version 2.2
M888 - 441B
\441B.GIF
1 ,Map Code,
European 1950 (Portugal),WGS 84, 0.0000, 0.0000,WGS 84
Reserved 1
Reserved 2
Magnetic Variation,,,W
Map Projection,(UTM) Universal Transverse Mercator,PolyCal,No,AutoCalOnly,No,BSBUseWPX,No
Point01,xy, 140, 169,in, deg, , ,N, , ,W, grid, 29, 464000, 4280000,N
Point02,xy, 5108, 3214,in, deg, , ,N, , ,W, grid, 29, 479000, 4271000,N
Point03,xy, 5136, 218,in, deg, , ,N, , ,W, grid, 29, 479000, 4280000,N
Point04,xy, 111, 3171,in, deg, , ,N, , ,W, grid, 29, 464000, 4271000,N
Point05,xy, 1796, 1187,in, deg, , ,N, , ,W, grid, 29, 469000, 4277000,N
Point06,xy, 3451, 2200,in, deg, , ,N, , ,W, grid, 29, 474000, 4274000,N
Point07,xy, 3461, 1202,in, deg, , ,N, , ,W, grid, 29, 474000, 4277000,N
Point08,xy, 1785, 2185,in, deg, , ,N, , ,W, grid, 29, 469000, 4274000,N
Point09,xy, 2779, 2861,in, deg, , ,N, , ,W, grid, 29, 472000, 4272000,N
Point10,xy, , ,in, deg, , ,N, , ,W, grid, , , ,N
Point11,xy, , ,in, deg, , ,N, , ,W, grid, , , ,N
Point12,xy, , ,in, deg, , ,N, , ,W, grid, , , ,N
Point13,xy, , ,in, deg, , ,N, , ,W, grid, , , ,N
Point14,xy, , ,in, deg, , ,N, , ,W, grid, , , ,N
Point15,xy, , ,in, deg, , ,N, , ,W, grid, , , ,N
Point16,xy, , ,in, deg, , ,N, , ,W, grid, , , ,N
Point17,xy, , ,in, deg, , ,N, , ,W, grid, , , ,N
Point18,xy, , ,in, deg, , ,N, , ,W, grid, , , ,N
Point19,xy, , ,in, deg, , ,N, , ,W, grid, , , ,N
Point20,xy, , ,in, deg, , ,N, , ,W, grid, , , ,N
Point21,xy, , ,in, deg, , ,N, , ,W, grid, , , ,N
Point22,xy, , ,in, deg, , ,N, , ,W, grid, , , ,N
Point23,xy, , ,in, deg, , ,N, , ,W, grid, , , ,N
Point24,xy, , ,in, deg, , ,N, , ,W, grid, , , ,N
Point25,xy, , ,in, deg, , ,N, , ,W, grid, , , ,N
Point26,xy, , ,in, deg, , ,N, , ,W, grid, , , ,N
Point27,xy, , ,in, deg, , ,N, , ,W, grid, , , ,N
Point28,xy, , ,in, deg, , ,N, , ,W, grid, , , ,N
Point29,xy, , ,in, deg, , ,N, , ,W, grid, , , ,N
Point30,xy, , ,in, deg, , ,N, , ,W, grid, , , ,N
Projection Setup, 39.666666667, -8.131906667, 1.000000000, 200000.00, 300000.00,,,,,
Map Feature = MF ; Map Comment = MC These follow if they exist
Track File = TF These follow if they exist
Moving Map Parameters = MM? These follow if they exist
MM0,Yes
MMPNUM,4
MMPXY,1,0,0
MMPXY,2,5336,0
MMPXY,3,5336,3336
MMPXY,4,0,3336
MMPLL,1, -9.418693, 38.671778
MMPLL,2, -9.234575, 38.673620
MMPLL,3, -9.233183, 38.583398
MMPLL,4, -9.417071, 38.581559
MM1B,3.001848
Other Grid Setup
GRGRID,Yes,1 Km,No,8388608,12632256,1 Km,8388608,16777215,8,1,Yes,No,Yes,x
MOP,Map Open Position,0,0
IWH,Map Image Width/Height,5336,3336
