OziExplorer Map Data File Version 2.2
M888 - 401
\401.GIF
1 ,Map Code,
European 1950 (Portugal),WGS 84, 0.0000, 0.0000,WGS 84
Reserved 1
Reserved 2
Magnetic Variation,,,W
Map Projection,(UTM) Universal Transverse Mercator,PolyCal,No,AutoCalOnly,No,BSBUseWPX,No
Point01,xy, 293, 157,in, deg, , ,N, , ,W, grid, 29, 672000, 4322000,N
Point02,xy, 5261, 3202,in, deg, , ,N, , ,W, grid, 29, 687000, 4313000,N
Point03,xy, 5291, 204,in, deg, , ,N, , ,W, grid, 29, 687000, 4322000,N
Point04,xy, 263, 3155,in, deg, , ,N, , ,W, grid, 29, 672000, 4313000,N
Point05,xy, 1949, 1174,in, deg, , ,N, , ,W, grid, 29, 677000, 4319000,N
Point06,xy, 3605, 2187,in, deg, , ,N, , ,W, grid, 29, 682000, 4316000,N
Point07,xy, 3616, 1188,in, deg, , ,N, , ,W, grid, 29, 682000, 4319000,N
Point08,xy, 1940, 2171,in, deg, , ,N, , ,W, grid, 29, 677000, 4316000,N
Point09,xy, 2933, 2847,in, deg, , ,N, , ,W, grid, 29, 680000, 4314000,N
Point10,xy, , ,in, deg, , ,N, , ,W, grid, 29, , ,N
Point11,xy, , ,in, deg, , ,N, , ,W, grid, 29, , ,N
Point12,xy, , ,in, deg, , ,N, , ,W, grid, 29, , ,N
Point13,xy, , ,in, deg, , ,N, , ,W, grid, 29, , ,N
Point14,xy, , ,in, deg, , ,N, , ,W, grid, 29, , ,N
Point15,xy, , ,in, deg, , ,N, , ,W, grid, 29, , ,N
Point16,xy, , ,in, deg, , ,N, , ,W, grid, 29, , ,N
Point17,xy, , ,in, deg, , ,N, , ,W, grid, 29, , ,N
Point18,xy, , ,in, deg, , ,N, , ,W, grid, 29, , ,N
Point19,xy, , ,in, deg, , ,N, , ,W, grid, 29, , ,N
Point20,xy, , ,in, deg, , ,N, , ,W, grid, 29, , ,N
Point21,xy, , ,in, deg, , ,N, , ,W, grid, 29, , ,N
Point22,xy, , ,in, deg, , ,N, , ,W, grid, 29, , ,N
Point23,xy, , ,in, deg, , ,N, , ,W, grid, 29, , ,N
Point24,xy, , ,in, deg, , ,N, , ,W, grid, 29, , ,N
Point25,xy, , ,in, deg, , ,N, , ,W, grid, 29, , ,N
Point26,xy, , ,in, deg, , ,N, , ,W, grid, 29, , ,N
Point27,xy, , ,in, deg, , ,N, , ,W, grid, 29, , ,N
Point28,xy, , ,in, deg, , ,N, , ,W, grid, 29, , ,N
Point29,xy, , ,in, deg, , ,N, , ,W, grid, 29, , ,N
Point30,xy, , ,in, deg, , ,N, , ,W, grid, 29, , ,N
Projection Setup, 39.666666667, -8.131906667, 1.000000000, 200000.00, 300000.00,,,,,
Map Feature = MF ; Map Comment = MC These follow if they exist
Track File = TF These follow if they exist
Moving Map Parameters = MM? These follow if they exist
MM0,Yes
MMPNUM,4
MMPXY,1,0,0
MMPXY,2,5336,0
MMPXY,3,5336,3337
MMPXY,4,0,3337
MMPLL,1, -7.023117, 39.033849
MMPLL,2, -6.838191, 39.031919
MMPLL,3, -6.839783, 38.941679
MMPLL,4, -7.024474, 38.943601
MM1B,3.001007
Other Grid Setup
GRGRID,Yes,1 Km,No,8388608,12632256,1 Km,8388608,16777215,8,1,Yes,No,Yes,x
MOP,Map Open Position,0,0
IWH,Map Image Width/Height,5336,3337
