OziExplorer Map Data File Version 2.2
M888 - 325C
\325C.GIF
1 ,Map Code,
European 1950 (Portugal),WGS 84, 0.0000, 0.0000,WGS 84
Reserved 1
Reserved 2
Magnetic Variation,,,W
Map Projection,(UTM) Universal Transverse Mercator,PolyCal,No,AutoCalOnly,No,BSBUseWPX,No
Point01,xy, 311, 181,in, deg, , ,N, , ,W, grid, 29, 472000, 4370000,N
Point02,xy, 2280, 3199,in, deg, , ,N, , ,W, grid, 29, 478000, 4361000,N
Point03,xy, 2309, 197,in, deg, , ,N, , ,W, grid, 29, 478000, 4370000,N
Point04,xy, 282, 3180,in, deg, , ,N, , ,W, grid, 29, 472000, 4361000,N
Point05,xy, 967, 1188,in, deg, , ,N, , ,W, grid, 29, 474000, 4367000,N
Point06,xy, 1624, 2194,in, deg, , ,N, , ,W, grid, 29, 476000, 4364000,N
Point07,xy, 1634, 1193,in, deg, , ,N, , ,W, grid, 29, 476000, 4367000,N
Point08,xy, 958, 2187,in, deg, , ,N, , ,W, grid, 29, 474000, 4364000,N
Point09,xy, 1285, 2857,in, deg, , ,N, , ,W, grid, 29, 475000, 4362000,N
Point10,xy, , ,in, deg, , ,N, , ,W, grid, , , ,N
Point11,xy, , ,in, deg, , ,N, , ,W, grid, , , ,N
Point12,xy, , ,in, deg, , ,N, , ,W, grid, , , ,N
Point13,xy, , ,in, deg, , ,N, , ,W, grid, , , ,N
Point14,xy, , ,in, deg, , ,N, , ,W, grid, , , ,N
Point15,xy, , ,in, deg, , ,N, , ,W, grid, , , ,N
Point16,xy, , ,in, deg, , ,N, , ,W, grid, , , ,N
Point17,xy, , ,in, deg, , ,N, , ,W, grid, , , ,N
Point18,xy, , ,in, deg, , ,N, , ,W, grid, , , ,N
Point19,xy, , ,in, deg, , ,N, , ,W, grid, , , ,N
Point20,xy, , ,in, deg, , ,N, , ,W, grid, , , ,N
Point21,xy, , ,in, deg, , ,N, , ,W, grid, , , ,N
Point22,xy, , ,in, deg, , ,N, , ,W, grid, , , ,N
Point23,xy, , ,in, deg, , ,N, , ,W, grid, , , ,N
Point24,xy, , ,in, deg, , ,N, , ,W, grid, , , ,N
Point25,xy, , ,in, deg, , ,N, , ,W, grid, , , ,N
Point26,xy, , ,in, deg, , ,N, , ,W, grid, , , ,N
Point27,xy, , ,in, deg, , ,N, , ,W, grid, , , ,N
Point28,xy, , ,in, deg, , ,N, , ,W, grid, , , ,N
Point29,xy, , ,in, deg, , ,N, , ,W, grid, , , ,N
Point30,xy, , ,in, deg, , ,N, , ,W, grid, , , ,N
Projection Setup, 39.666666667, -8.131906667, 1.000000000, 200000.00, 300000.00,,,,,
Map Feature = MF ; Map Comment = MC These follow if they exist
Track File = TF These follow if they exist
Moving Map Parameters = MM? These follow if they exist
MM0,Yes
MMPNUM,4
MMPXY,1,0,0
MMPXY,2,2553,0
MMPXY,3,2553,3337
MMPXY,4,0,3337
MMPLL,1, -9.336491, 39.483253
MMPLL,2, -9.247361, 39.484078
MMPLL,3, -9.245923, 39.393904
MMPLL,4, -9.334938, 39.393080
MM1B,3.002649
LL Grid Setup
LLGRID,No,No Grid,Yes,255,16711680,0,Geen label,0,16777215,7,1,Yes,x
Other Grid Setup
GRGRID,Yes,1 Km,No,8388608,12632256,1 Km,8388608,16777215,8,1,Yes,No,Yes,x
MOP,Map Open Position,0,0
IWH,Map Image Width/Height,2553,3337
