OziExplorer Map Data File Version 2.2
M888 - 325
\325.GIF
1 ,Map Code,
European 1950 (Portugal),WGS 84, 0.0000, 0.0000,WGS 84
Reserved 1
Reserved 2
Magnetic Variation,,,W
Map Projection,(UTM) Universal Transverse Mercator,PolyCal,No,AutoCalOnly,No,BSBUseWPX,No
Point01,xy, 149, 327,in, deg, , ,N, , ,W, grid, 29, 623000, 4381000,N
Point02,xy, 5119, 3046,in, deg, , ,N, , ,W, grid, 29, 638000, 4373000,N
Point03,xy, 5151, 44,in, deg, , ,N, , ,W, grid, 29, 638000, 4382000,N
Point04,xy, 119, 3330,in, deg, , ,N, , ,W, grid, 29, 623000, 4372000,N
Point05,xy, 1805, 1343,in, deg, , ,N, , ,W, grid, 29, 628000, 4378000,N
Point06,xy, 3464, 2027,in, deg, , ,N, , ,W, grid, 29, 633000, 4376000,N
Point07,xy, 3474, 1027,in, deg, , ,N, , ,W, grid, 29, 633000, 4379000,N
Point08,xy, 1795, 2343,in, deg, , ,N, , ,W, grid, 29, 628000, 4375000,N
Point09,xy, 2791, 2686,in, deg, , ,N, , ,W, grid, 29, 631000, 4374000,N
Point10,xy, , ,in, deg, , ,N, , ,W, grid, , , ,N
Point11,xy, , ,in, deg, , ,N, , ,W, grid, , , ,N
Point12,xy, , ,in, deg, , ,N, , ,W, grid, , , ,N
Point13,xy, , ,in, deg, , ,N, , ,W, grid, , , ,N
Point14,xy, , ,in, deg, , ,N, , ,W, grid, , , ,N
Point15,xy, , ,in, deg, , ,N, , ,W, grid, , , ,N
Point16,xy, , ,in, deg, , ,N, , ,W, grid, , , ,N
Point17,xy, , ,in, deg, , ,N, , ,W, grid, , , ,N
Point18,xy, , ,in, deg, , ,N, , ,W, grid, , , ,N
Point19,xy, , ,in, deg, , ,N, , ,W, grid, , , ,N
Point20,xy, , ,in, deg, , ,N, , ,W, grid, , , ,N
Point21,xy, , ,in, deg, , ,N, , ,W, grid, , , ,N
Point22,xy, , ,in, deg, , ,N, , ,W, grid, , , ,N
Point23,xy, , ,in, deg, , ,N, , ,W, grid, , , ,N
Point24,xy, , ,in, deg, , ,N, , ,W, grid, , , ,N
Point25,xy, , ,in, deg, , ,N, , ,W, grid, , , ,N
Point26,xy, , ,in, deg, , ,N, , ,W, grid, , , ,N
Point27,xy, , ,in, deg, , ,N, , ,W, grid, , , ,N
Point28,xy, , ,in, deg, , ,N, , ,W, grid, , , ,N
Point29,xy, , ,in, deg, , ,N, , ,W, grid, , , ,N
Point30,xy, , ,in, deg, , ,N, , ,W, grid, , , ,N
Projection Setup, 39.666666667, -8.131906667, 1.000000000, 200000.00, 300000.00,,,,,
Map Feature = MF ; Map Comment = MC These follow if they exist
Track File = TF These follow if they exist
Moving Map Parameters = MM? These follow if they exist
MM0,Yes
MMPNUM,4
MMPXY,1,0,0
MMPXY,2,5336,0
MMPXY,3,5336,3337
MMPXY,4,0,3337
MMPLL,1, -7.573247, 39.578059
MMPLL,2, -7.386825, 39.577067
MMPLL,3, -7.387714, 39.486941
MMPLL,4, -7.573896, 39.487928
MM1B,3.001173
Other Grid Setup
GRGRID,Yes,1 Km,No,8388608,12632256,1 Km,8388608,16777215,8,1,Yes,No,Yes,x
MOP,Map Open Position,0,0
IWH,Map Image Width/Height,5336,3337
