OziExplorer Map Data File Version 2.2
M888 - 315B
\315B.gif
1 ,Map Code,
European 1950 (Portugal),WGS 84, 0.0000, 0.0000,WGS 84
Reserved 1
Reserved 2
Magnetic Variation,,,W
Map Projection,(UTM) Universal Transverse Mercator,PolyCal,No,AutoCalOnly,No,BSBUseWPX,No
Point01,xy, 184, 98,in, deg, , ,N, , ,W, grid, 29, 655000, 4392000,N
Point02,xy, 5156, 3148,in, deg, , ,N, , ,W, grid, 29, 670000, 4383000,N
Point03,xy, 5185, 147,in, deg, , ,N, , ,W, grid, 29, 670000, 4392000,N
Point04,xy, 155, 3099,in, deg, , ,N, , ,W, grid, 29, 655000, 4383000,N
Point05,xy, 1843, 1115,in, deg, , ,N, , ,W, grid, 29, 660000, 4389000,N
Point06,xy, 3500, 2130,in, deg, , ,N, , ,W, grid, 29, 665000, 4386000,N
Point07,xy, 3509, 1132,in, deg, , ,N, , ,W, grid, 29, 665000, 4389000,N
Point08,xy, 1833, 2114,in, deg, , ,N, , ,W, grid, 29, 660000, 4386000,N
Point09,xy, 2826, 2790,in, deg, , ,N, , ,W, grid, 29, 663000, 4384000,N
Point10,xy, , ,in, deg, , ,N, , ,W, grid, , , ,N
Point11,xy, , ,in, deg, , ,N, , ,W, grid, , , ,N
Point12,xy, , ,in, deg, , ,N, , ,W, grid, , , ,N
Point13,xy, , ,in, deg, , ,N, , ,W, grid, , , ,N
Point14,xy, , ,in, deg, , ,N, , ,W, grid, , , ,N
Point15,xy, , ,in, deg, , ,N, , ,W, grid, , , ,N
Point16,xy, , ,in, deg, , ,N, , ,W, grid, , , ,N
Point17,xy, , ,in, deg, , ,N, , ,W, grid, , , ,N
Point18,xy, , ,in, deg, , ,N, , ,W, grid, , , ,N
Point19,xy, , ,in, deg, , ,N, , ,W, grid, , , ,N
Point20,xy, , ,in, deg, , ,N, , ,W, grid, , , ,N
Point21,xy, , ,in, deg, , ,N, , ,W, grid, , , ,N
Point22,xy, , ,in, deg, , ,N, , ,W, grid, , , ,N
Point23,xy, , ,in, deg, , ,N, , ,W, grid, , , ,N
Point24,xy, , ,in, deg, , ,N, , ,W, grid, , , ,N
Point25,xy, , ,in, deg, , ,N, , ,W, grid, , , ,N
Point26,xy, , ,in, deg, , ,N, , ,W, grid, , , ,N
Point27,xy, , ,in, deg, , ,N, , ,W, grid, , , ,N
Point28,xy, , ,in, deg, , ,N, , ,W, grid, , , ,N
Point29,xy, , ,in, deg, , ,N, , ,W, grid, , , ,N
Point30,xy, , ,in, deg, , ,N, , ,W, grid, , , ,N
Projection Setup, 39.666666667, -8.131906667, 1.000000000, 200000.00, 300000.00,,,,,
Map Feature = MF ; Map Comment = MC These follow if they exist
Track File = TF These follow if they exist
Moving Map Parameters = MM? These follow if they exist
MM0,Yes
MMPNUM,4
MMPXY,1,0,0
MMPXY,2,5336,0
MMPXY,3,5336,3336
MMPXY,4,0,3336
MMPLL,1, -7.199561, 39.665797
MMPLL,2, -7.013057, 39.664170
MMPLL,3, -7.014509, 39.574041
MMPLL,4, -7.200772, 39.575660
MM1B,2.999182
LL Grid Setup
LLGRID,No,No Grid,Yes,255,16711680,0,Geen label,0,16777215,7,1,Yes,x
Other Grid Setup
GRGRID,Yes,1 Km,No,8388608,12632256,1 Km,8388608,16777215,8,1,Yes,No,Yes,x
MOP,Map Open Position,0,0
IWH,Map Image Width/Height,5336,3336
