OziExplorer Map Data File Version 2.2
M888 - 306B
\306B.GIF
1 ,Map Code,
European 1950 (Portugal),WGS 84, 0.0000, 0.0000,WGS 84
Reserved 1
Reserved 2
Magnetic Variation,,,W
Map Projection,(UTM) Universal Transverse Mercator,PolyCal,No,AutoCalOnly,No,BSBUseWPX,No
Point01,xy, 159, 197,in, deg, , ,N, , ,W, grid, 29, 479000, 4390000,N
Point02,xy, 5134, 3248,in, deg, , ,N, , ,W, grid, 29, 494000, 4381000,N
Point03,xy, 5158, 247,in, deg, , ,N, , ,W, grid, 29, 494000, 4390000,N
Point04,xy, 131, 3203,in, deg, , ,N, , ,W, grid, 29, 479000, 4381000,N
Point05,xy, 1817, 1214,in, deg, , ,N, , ,W, grid, 29, 484000, 4387000,N
Point06,xy, 3475, 2230,in, deg, , ,N, , ,W, grid, 29, 489000, 4384000,N
Point07,xy, 3483, 1232,in, deg, , ,N, , ,W, grid, 29, 489000, 4387000,N
Point08,xy, 1808, 2216,in, deg, , ,N, , ,W, grid, 29, 484000, 4384000,N
Point09,xy, 2802, 2892,in, deg, , ,N, , ,W, grid, 29, 487000, 4382000,N
Point10,xy, , ,in, deg, , ,N, , ,W, grid, , , ,N
Point11,xy, , ,in, deg, , ,N, , ,W, grid, , , ,N
Point12,xy, , ,in, deg, , ,N, , ,W, grid, , , ,N
Point13,xy, , ,in, deg, , ,N, , ,W, grid, , , ,N
Point14,xy, , ,in, deg, , ,N, , ,W, grid, , , ,N
Point15,xy, , ,in, deg, , ,N, , ,W, grid, , , ,N
Point16,xy, , ,in, deg, , ,N, , ,W, grid, , , ,N
Point17,xy, , ,in, deg, , ,N, , ,W, grid, , , ,N
Point18,xy, , ,in, deg, , ,N, , ,W, grid, , , ,N
Point19,xy, , ,in, deg, , ,N, , ,W, grid, , , ,N
Point20,xy, , ,in, deg, , ,N, , ,W, grid, , , ,N
Point21,xy, , ,in, deg, , ,N, , ,W, grid, , , ,N
Point22,xy, , ,in, deg, , ,N, , ,W, grid, , , ,N
Point23,xy, , ,in, deg, , ,N, , ,W, grid, , , ,N
Point24,xy, , ,in, deg, , ,N, , ,W, grid, , , ,N
Point25,xy, , ,in, deg, , ,N, , ,W, grid, , , ,N
Point26,xy, , ,in, deg, , ,N, , ,W, grid, , , ,N
Point27,xy, , ,in, deg, , ,N, , ,W, grid, , , ,N
Point28,xy, , ,in, deg, , ,N, , ,W, grid, , , ,N
Point29,xy, , ,in, deg, , ,N, , ,W, grid, , , ,N
Point30,xy, , ,in, deg, , ,N, , ,W, grid, , , ,N
Projection Setup, 39.666666667, -8.131906667, 1.000000000, 200000.00, 300000.00,,,,,
Map Feature = MF ; Map Comment = MC These follow if they exist
Track File = TF These follow if they exist
Moving Map Parameters = MM? These follow if they exist
MM0,Yes
MMPNUM,4
MMPXY,1,0,0
MMPXY,2,5337,0
MMPXY,3,5337,3336
MMPXY,4,0,3336
MMPLL,1, -9.250402, 39.664166
MMPLL,2, -9.063800, 39.665791
MMPLL,3, -9.062710, 39.575714
MMPLL,4, -9.249069, 39.574091
MM1B,2.999227
LL Grid Setup
LLGRID,No,No Grid,Yes,255,16711680,0,Geen label,0,16777215,7,1,Yes,x
Other Grid Setup
GRGRID,Yes,1 Km,No,8388608,12632256,1 Km,8388608,16777215,8,1,Yes,No,Yes,x
MOP,Map Open Position,0,0
IWH,Map Image Width/Height,5337,3336
