OziExplorer Map Data File Version 2.2
M888 - 306
\306.GIF
1 ,Map Code,
European 1950 (Portugal),WGS 84, 0.0000, 0.0000,WGS 84
Reserved 1
Reserved 2
Magnetic Variation,,,W
Map Projection,(UTM) Universal Transverse Mercator,PolyCal,No,AutoCalOnly,No,BSBUseWPX,No
Point01,xy, 217, 99,in, deg, , ,N, , ,W, grid, 29, 655000, 4402000,N
Point02,xy, 5187, 3146,in, deg, , ,N, , ,W, grid, 29, 670000, 4393000,N
Point03,xy, 5217, 148,in, deg, , ,N, , ,W, grid, 29, 670000, 4402000,N
Point04,xy, 187, 3100,in, deg, , ,N, , ,W, grid, 29, 655000, 4393000,N
Point05,xy, 1873, 1116,in, deg, , ,N, , ,W, grid, 29, 660000, 4399000,N
Point06,xy, 3530, 2131,in, deg, , ,N, , ,W, grid, 29, 665000, 4396000,N
Point07,xy, 3540, 1132,in, deg, , ,N, , ,W, grid, 29, 665000, 4399000,N
Point08,xy, 1863, 2115,in, deg, , ,N, , ,W, grid, 29, 660000, 4396000,N
Point09,xy, 2857, 2792,in, deg, , ,N, , ,W, grid, 29, 663000, 4394000,N
Point10,xy, , ,in, deg, , ,N, , ,W, grid, , , ,N
Point11,xy, , ,in, deg, , ,N, , ,W, grid, , , ,N
Point12,xy, , ,in, deg, , ,N, , ,W, grid, , , ,N
Point13,xy, , ,in, deg, , ,N, , ,W, grid, , , ,N
Point14,xy, , ,in, deg, , ,N, , ,W, grid, , , ,N
Point15,xy, , ,in, deg, , ,N, , ,W, grid, , , ,N
Point16,xy, , ,in, deg, , ,N, , ,W, grid, , , ,N
Point17,xy, , ,in, deg, , ,N, , ,W, grid, , , ,N
Point18,xy, , ,in, deg, , ,N, , ,W, grid, , , ,N
Point19,xy, , ,in, deg, , ,N, , ,W, grid, , , ,N
Point20,xy, , ,in, deg, , ,N, , ,W, grid, , , ,N
Point21,xy, , ,in, deg, , ,N, , ,W, grid, , , ,N
Point22,xy, , ,in, deg, , ,N, , ,W, grid, , , ,N
Point23,xy, , ,in, deg, , ,N, , ,W, grid, , , ,N
Point24,xy, , ,in, deg, , ,N, , ,W, grid, , , ,N
Point25,xy, , ,in, deg, , ,N, , ,W, grid, , , ,N
Point26,xy, , ,in, deg, , ,N, , ,W, grid, , , ,N
Point27,xy, , ,in, deg, , ,N, , ,W, grid, , , ,N
Point28,xy, , ,in, deg, , ,N, , ,W, grid, , , ,N
Point29,xy, , ,in, deg, , ,N, , ,W, grid, , , ,N
Point30,xy, , ,in, deg, , ,N, , ,W, grid, , , ,N
Projection Setup, 39.666666667, -8.131906667, 1.000000000, 200000.00, 300000.00,,,,,
Map Feature = MF ; Map Comment = MC These follow if they exist
Track File = TF These follow if they exist
Moving Map Parameters = MM? These follow if they exist
MM0,Yes
MMPNUM,4
MMPXY,1,0,0
MMPXY,2,5337,0
MMPXY,3,5337,3337
MMPXY,4,0,3337
MMPLL,1, -7.198342, 39.755912
MMPLL,2, -7.011529, 39.754235
MMPLL,3, -7.012954, 39.664062
MMPLL,4, -7.199524, 39.665731
MM1B,2.999699
Other Grid Setup
GRGRID,Yes,1 Km,No,8388608,12632256,1 Km,8388608,16777215,8,1,Yes,No,Yes,x
MOP,Map Open Position,0,0
IWH,Map Image Width/Height,5337,3337
