OziExplorer Map Data File Version 2.2
M888 - 248B
\248B.GIF
1 ,Map Code,
European 1950 (Portugal),WGS 84, 0.0000, 0.0000,WGS 84
Reserved 1
Reserved 2
Magnetic Variation,,,W
Map Projection,(UTM) Universal Transverse Mercator,PolyCal,No,AutoCalOnly,No,BSBUseWPX,No
Point01,xy, 328, 237,in, deg, , ,N, , ,W, grid, 29, 495000, 4440000,N
Point02,xy, 5296, 3289,in, deg, , ,N, , ,W, grid, 29, 510000, 4431000,N
Point03,xy, 5327, 293,in, deg, , ,N, , ,W, grid, 29, 510000, 4440000,N
Point04,xy, 297, 3240,in, deg, , ,N, , ,W, grid, 29, 495000, 4431000,N
Point05,xy, 1985, 1256,in, deg, , ,N, , ,W, grid, 29, 500000, 4437000,N
Point06,xy, 3640, 2273,in, deg, , ,N, , ,W, grid, 29, 505000, 4434000,N
Point07,xy, 3651, 1274,in, deg, , ,N, , ,W, grid, 29, 505000, 4437000,N
Point08,xy, 1975, 2255,in, deg, , ,N, , ,W, grid, 29, 500000, 4434000,N
Point09,xy, 2967, 2932,in, deg, , ,N, , ,W, grid, 29, 503000, 4432000,N
Point10,xy, , ,in, deg, , ,N, , ,W, grid, , , ,N
Point11,xy, , ,in, deg, , ,N, , ,W, grid, , , ,N
Point12,xy, , ,in, deg, , ,N, , ,W, grid, , , ,N
Point13,xy, , ,in, deg, , ,N, , ,W, grid, , , ,N
Point14,xy, , ,in, deg, , ,N, , ,W, grid, , , ,N
Point15,xy, , ,in, deg, , ,N, , ,W, grid, , , ,N
Point16,xy, , ,in, deg, , ,N, , ,W, grid, , , ,N
Point17,xy, , ,in, deg, , ,N, , ,W, grid, , , ,N
Point18,xy, , ,in, deg, , ,N, , ,W, grid, , , ,N
Point19,xy, , ,in, deg, , ,N, , ,W, grid, , , ,N
Point20,xy, , ,in, deg, , ,N, , ,W, grid, , , ,N
Point21,xy, , ,in, deg, , ,N, , ,W, grid, , , ,N
Point22,xy, , ,in, deg, , ,N, , ,W, grid, , , ,N
Point23,xy, , ,in, deg, , ,N, , ,W, grid, , , ,N
Point24,xy, , ,in, deg, , ,N, , ,W, grid, , , ,N
Point25,xy, , ,in, deg, , ,N, , ,W, grid, , , ,N
Point26,xy, , ,in, deg, , ,N, , ,W, grid, , , ,N
Point27,xy, , ,in, deg, , ,N, , ,W, grid, , , ,N
Point28,xy, , ,in, deg, , ,N, , ,W, grid, , , ,N
Point29,xy, , ,in, deg, , ,N, , ,W, grid, , , ,N
Point30,xy, , ,in, deg, , ,N, , ,W, grid, , , ,N
Projection Setup, 39.666666667, -8.131906667, 1.000000000, 200000.00, 300000.00,,,,,
Map Feature = MF ; Map Comment = MC These follow if they exist
Track File = TF These follow if they exist
Moving Map Parameters = MM? These follow if they exist
MM0,Yes
MMPNUM,4
MMPXY,1,0,0
MMPXY,2,5336,0
MMPXY,3,5336,3337
MMPXY,4,0,3337
MMPLL,1, -9.070327, 40.115955
MMPLL,2, -8.882455, 40.117435
MMPLL,3, -8.881396, 40.027224
MMPLL,4, -9.069021, 40.025745
MM1B,3.000390
Other Grid Setup
GRGRID,Yes,1 Km,No,8388608,12632256,1 Km,8388608,16777215,8,1,Yes,No,Yes,x
MOP,Map Open Position,0,0
IWH,Map Image Width/Height,5336,3337
