OziExplorer Map Data File Version 2.2
M888 - 248
\248.GIF
1 ,Map Code,
European 1950 (Portugal),WGS 84, 0.0000, 0.0000,WGS 84
Reserved 1
Reserved 2
Magnetic Variation,,,W
Map Projection,(UTM) Universal Transverse Mercator,PolyCal,No,AutoCalOnly,No,BSBUseWPX,No
Point01,xy, 46, 92,in, deg, , ,N, , ,W, grid, 29, 654000, 4452000,N
Point02,xy, 5016, 3142,in, deg, , ,N, , ,W, grid, 29, 669000, 4443000,N
Point03,xy, 5045, 142,in, deg, , ,N, , ,W, grid, 29, 669000, 4452000,N
Point04,xy, 17, 3094,in, deg, , ,N, , ,W, grid, 29, 654000, 4443000,N
Point05,xy, 1703, 1108,in, deg, , ,N, , ,W, grid, 29, 659000, 4449000,N
Point06,xy, 3359, 2124,in, deg, , ,N, , ,W, grid, 29, 664000, 4446000,N
Point07,xy, 3369, 1125,in, deg, , ,N, , ,W, grid, 29, 664000, 4449000,N
Point08,xy, 1693, 2108,in, deg, , ,N, , ,W, grid, 29, 659000, 4446000,N
Point09,xy, 2687, 2784,in, deg, , ,N, , ,W, grid, 29, 662000, 4444000,N
Point10,xy, , ,in, deg, , ,N, , ,W, grid, , , ,N
Point11,xy, , ,in, deg, , ,N, , ,W, grid, , , ,N
Point12,xy, , ,in, deg, , ,N, , ,W, grid, , , ,N
Point13,xy, , ,in, deg, , ,N, , ,W, grid, , , ,N
Point14,xy, , ,in, deg, , ,N, , ,W, grid, , , ,N
Point15,xy, , ,in, deg, , ,N, , ,W, grid, , , ,N
Point16,xy, , ,in, deg, , ,N, , ,W, grid, , , ,N
Point17,xy, , ,in, deg, , ,N, , ,W, grid, , , ,N
Point18,xy, , ,in, deg, , ,N, , ,W, grid, , , ,N
Point19,xy, , ,in, deg, , ,N, , ,W, grid, , , ,N
Point20,xy, , ,in, deg, , ,N, , ,W, grid, , , ,N
Point21,xy, , ,in, deg, , ,N, , ,W, grid, , , ,N
Point22,xy, , ,in, deg, , ,N, , ,W, grid, , , ,N
Point23,xy, , ,in, deg, , ,N, , ,W, grid, , , ,N
Point24,xy, , ,in, deg, , ,N, , ,W, grid, , , ,N
Point25,xy, , ,in, deg, , ,N, , ,W, grid, , , ,N
Point26,xy, , ,in, deg, , ,N, , ,W, grid, , , ,N
Point27,xy, , ,in, deg, , ,N, , ,W, grid, , , ,N
Point28,xy, , ,in, deg, , ,N, , ,W, grid, , , ,N
Point29,xy, , ,in, deg, , ,N, , ,W, grid, , , ,N
Point30,xy, , ,in, deg, , ,N, , ,W, grid, , , ,N
Projection Setup, 39.666666667, -8.131906667, 1.000000000, 200000.00, 300000.00,,,,,
Map Feature = MF ; Map Comment = MC These follow if they exist
Track File = TF These follow if they exist
Moving Map Parameters = MM? These follow if they exist
MM0,Yes
MMPNUM,4
MMPXY,1,0,0
MMPXY,2,5336,0
MMPXY,3,5336,3336
MMPXY,4,0,3336
MMPLL,1, -7.192208, 40.206083
MMPLL,2, -7.004151, 40.204411
MMPLL,3, -7.005656, 40.114296
MMPLL,4, -7.193465, 40.115961
MM1B,3.000469
Other Grid Setup
GRGRID,Yes,1 Km,No,8388608,12632256,1 Km,8388608,16777215,8,1,Yes,No,Yes,x
MOP,Map Open Position,0,0
IWH,Map Image Width/Height,5336,3336
