OziExplorer Map Data File Version 2.2
M888 - 238A
\238A.GIF
1 ,Map Code,
European 1950 (Portugal),WGS 84, 0.0000, 0.0000,WGS 84
Reserved 1
Reserved 2
Magnetic Variation,,,W
Map Projection,(UTM) Universal Transverse Mercator,PolyCal,No,AutoCalOnly,No,BSBUseWPX,No
Point01,xy, 23, 236,in, deg, , ,N, , ,W, grid, 29, 494000, 4450000,N
Point02,xy, 5323, 3290,in, deg, , ,N, , ,W, grid, 29, 510000, 4441000,N
Point03,xy, 5020, 289,in, deg, , ,N, , ,W, grid, 29, 509000, 4450000,N
Point04,xy, 326, 3241,in, deg, , ,N, , ,W, grid, 29, 495000, 4441000,N
Point05,xy, 1679, 1254,in, deg, , ,N, , ,W, grid, 29, 499000, 4447000,N
Point06,xy, 3667, 2274,in, deg, , ,N, , ,W, grid, 29, 505000, 4444000,N
Point07,xy, 3346, 1271,in, deg, , ,N, , ,W, grid, 29, 504000, 4447000,N
Point08,xy, 2003, 2258,in, deg, , ,N, , ,W, grid, 29, 500000, 4444000,N
Point09,xy, 2995, 2934,in, deg, , ,N, , ,W, grid, 29, 503000, 4442000,N
Point10,xy, , ,in, deg, , ,N, , ,W, grid, , , ,N
Point11,xy, , ,in, deg, , ,N, , ,W, grid, , , ,N
Point12,xy, , ,in, deg, , ,N, , ,W, grid, , , ,N
Point13,xy, , ,in, deg, , ,N, , ,W, grid, , , ,N
Point14,xy, , ,in, deg, , ,N, , ,W, grid, , , ,N
Point15,xy, , ,in, deg, , ,N, , ,W, grid, , , ,N
Point16,xy, , ,in, deg, , ,N, , ,W, grid, , , ,N
Point17,xy, , ,in, deg, , ,N, , ,W, grid, , , ,N
Point18,xy, , ,in, deg, , ,N, , ,W, grid, , , ,N
Point19,xy, , ,in, deg, , ,N, , ,W, grid, , , ,N
Point20,xy, , ,in, deg, , ,N, , ,W, grid, , , ,N
Point21,xy, , ,in, deg, , ,N, , ,W, grid, , , ,N
Point22,xy, , ,in, deg, , ,N, , ,W, grid, , , ,N
Point23,xy, , ,in, deg, , ,N, , ,W, grid, , , ,N
Point24,xy, , ,in, deg, , ,N, , ,W, grid, , , ,N
Point25,xy, , ,in, deg, , ,N, , ,W, grid, , , ,N
Point26,xy, , ,in, deg, , ,N, , ,W, grid, , , ,N
Point27,xy, , ,in, deg, , ,N, , ,W, grid, , , ,N
Point28,xy, , ,in, deg, , ,N, , ,W, grid, , , ,N
Point29,xy, , ,in, deg, , ,N, , ,W, grid, , , ,N
Point30,xy, , ,in, deg, , ,N, , ,W, grid, , , ,N
Projection Setup, 39.666666667, -8.131906667, 1.000000000, 200000.00, 300000.00,,,,,
Map Feature = MF ; Map Comment = MC These follow if they exist
Track File = TF These follow if they exist
Moving Map Parameters = MM? These follow if they exist
MM0,Yes
MMPNUM,4
MMPXY,1,0,0
MMPXY,2,5336,0
MMPXY,3,5336,3336
MMPXY,4,0,3336
MMPLL,1, -9.071409, 40.206090
MMPLL,2, -8.883220, 40.207522
MMPLL,3, -8.882190, 40.117356
MMPLL,4, -9.070130, 40.115925
MM1B,3.001476
Other Grid Setup
GRGRID,Yes,1 Km,No,8388608,12632256,1 Km,8388608,16777215,8,1,Yes,No,Yes,x
MOP,Map Open Position,0,0
IWH,Map Image Width/Height,5336,3336
