OziExplorer Map Data File Version 2.2
M888 - 238
\238.GIF
1 ,Map Code,
European 1950 (Portugal),WGS 84, 0.0000, 0.0000,WGS 84
Reserved 1
Reserved 2
Magnetic Variation,,,W
Map Projection,(UTM) Universal Transverse Mercator,PolyCal,No,AutoCalOnly,No,BSBUseWPX,No
Point01,xy, 78, 142,in, deg, , ,N, , ,W, grid, 29, 670000, 4462000,N
Point02,xy, 5048, 3192,in, deg, , ,N, , ,W, grid, 29, 685000, 4453000,N
Point03,xy, 5078, 194,in, deg, , ,N, , ,W, grid, 29, 685000, 4462000,N
Point04,xy, 50, 3145,in, deg, , ,N, , ,W, grid, 29, 670000, 4453000,N
Point05,xy, 1736, 1160,in, deg, , ,N, , ,W, grid, 29, 675000, 4459000,N
Point06,xy, 3392, 2175,in, deg, , ,N, , ,W, grid, 29, 680000, 4456000,N
Point07,xy, 3403, 1177,in, deg, , ,N, , ,W, grid, 29, 680000, 4459000,N
Point08,xy, 1727, 2159,in, deg, , ,N, , ,W, grid, 29, 675000, 4456000,N
Point09,xy, 2720, 2836,in, deg, , ,N, , ,W, grid, 29, 678000, 4454000,N
Point10,xy, , ,in, deg, , ,N, , ,W, grid, , , ,N
Point11,xy, , ,in, deg, , ,N, , ,W, grid, , , ,N
Point12,xy, , ,in, deg, , ,N, , ,W, grid, , , ,N
Point13,xy, , ,in, deg, , ,N, , ,W, grid, , , ,N
Point14,xy, , ,in, deg, , ,N, , ,W, grid, , , ,N
Point15,xy, , ,in, deg, , ,N, , ,W, grid, , , ,N
Point16,xy, , ,in, deg, , ,N, , ,W, grid, , , ,N
Point17,xy, , ,in, deg, , ,N, , ,W, grid, , , ,N
Point18,xy, , ,in, deg, , ,N, , ,W, grid, , , ,N
Point19,xy, , ,in, deg, , ,N, , ,W, grid, , , ,N
Point20,xy, , ,in, deg, , ,N, , ,W, grid, , , ,N
Point21,xy, , ,in, deg, , ,N, , ,W, grid, , , ,N
Point22,xy, , ,in, deg, , ,N, , ,W, grid, , , ,N
Point23,xy, , ,in, deg, , ,N, , ,W, grid, , , ,N
Point24,xy, , ,in, deg, , ,N, , ,W, grid, , , ,N
Point25,xy, , ,in, deg, , ,N, , ,W, grid, , , ,N
Point26,xy, , ,in, deg, , ,N, , ,W, grid, , , ,N
Point27,xy, , ,in, deg, , ,N, , ,W, grid, , , ,N
Point28,xy, , ,in, deg, , ,N, , ,W, grid, , , ,N
Point29,xy, , ,in, deg, , ,N, , ,W, grid, , , ,N
Point30,xy, , ,in, deg, , ,N, , ,W, grid, , , ,N
Projection Setup, 39.666666667, -8.131906667, 1.000000000, 200000.00, 300000.00,,,,,
Map Feature = MF ; Map Comment = MC These follow if they exist
Track File = TF These follow if they exist
Moving Map Parameters = MM? These follow if they exist
MM0,Yes
MMPNUM,4
MMPXY,1,0,0
MMPXY,2,5336,0
MMPXY,3,5336,3336
MMPXY,4,0,3336
MMPLL,1, -7.002808, 40.294430
MMPLL,2, -6.814533, 40.292452
MMPLL,3, -6.816298, 40.202337
MMPLL,4, -7.004324, 40.204305
MM1B,3.000337
Other Grid Setup
GRGRID,Yes,1 Km,No,8388608,12632256,1 Km,8388608,16777215,8,1,Yes,No,Yes,x
MOP,Map Open Position,0,0
IWH,Map Image Width/Height,5336,3336
