OziExplorer Map Data File Version 2.2
M888 - 227B
\227B.GIF
1 ,Map Code,
European 1950 (Portugal),WGS 84, 0.0000, 0.0000,WGS 84
Reserved 1
Reserved 2
Magnetic Variation,,,W
Map Projection,(UTM) Universal Transverse Mercator,PolyCal,No,AutoCalOnly,No,BSBUseWPX,No
Point01,xy, 58, 234,in, deg, , ,N, , ,W, grid, 29, 494000, 4460000,N
Point02,xy, 5029, 3282,in, deg, , ,N, , ,W, grid, 29, 509000, 4451000,N
Point03,xy, 5057, 284,in, deg, , ,N, , ,W, grid, 29, 509000, 4460000,N
Point04,xy, 29, 3235,in, deg, , ,N, , ,W, grid, 29, 494000, 4451000,N
Point05,xy, 1715, 1251,in, deg, , ,N, , ,W, grid, 29, 499000, 4457000,N
Point06,xy, 3371, 2266,in, deg, , ,N, , ,W, grid, 29, 504000, 4454000,N
Point07,xy, 3381, 1267,in, deg, , ,N, , ,W, grid, 29, 504000, 4457000,N
Point08,xy, 1706, 2251,in, deg, , ,N, , ,W, grid, 29, 499000, 4454000,N
Point09,xy, 2700, 2926,in, deg, , ,N, , ,W, grid, 29, 502000, 4452000,N
Point10,xy, , ,in, deg, , ,N, , ,W, grid, , , ,N
Point11,xy, , ,in, deg, , ,N, , ,W, grid, , , ,N
Point12,xy, , ,in, deg, , ,N, , ,W, grid, , , ,N
Point13,xy, , ,in, deg, , ,N, , ,W, grid, , , ,N
Point14,xy, , ,in, deg, , ,N, , ,W, grid, , , ,N
Point15,xy, , ,in, deg, , ,N, , ,W, grid, , , ,N
Point16,xy, , ,in, deg, , ,N, , ,W, grid, , , ,N
Point17,xy, , ,in, deg, , ,N, , ,W, grid, , , ,N
Point18,xy, , ,in, deg, , ,N, , ,W, grid, , , ,N
Point19,xy, , ,in, deg, , ,N, , ,W, grid, , , ,N
Point20,xy, , ,in, deg, , ,N, , ,W, grid, , , ,N
Point21,xy, , ,in, deg, , ,N, , ,W, grid, , , ,N
Point22,xy, , ,in, deg, , ,N, , ,W, grid, , , ,N
Point23,xy, , ,in, deg, , ,N, , ,W, grid, , , ,N
Point24,xy, , ,in, deg, , ,N, , ,W, grid, , , ,N
Point25,xy, , ,in, deg, , ,N, , ,W, grid, , , ,N
Point26,xy, , ,in, deg, , ,N, , ,W, grid, , , ,N
Point27,xy, , ,in, deg, , ,N, , ,W, grid, , , ,N
Point28,xy, , ,in, deg, , ,N, , ,W, grid, , , ,N
Point29,xy, , ,in, deg, , ,N, , ,W, grid, , , ,N
Point30,xy, , ,in, deg, , ,N, , ,W, grid, , , ,N
Projection Setup, 39.666666667, -8.131906667, 1.000000000, 200000.00, 300000.00,,,,,
Map Feature = MF ; Map Comment = MC These follow if they exist
Track File = TF These follow if they exist
Moving Map Parameters = MM? These follow if they exist
MM0,Yes
MMPNUM,4
MMPXY,1,0,0
MMPXY,2,5336,0
MMPXY,3,5336,3336
MMPXY,4,0,3336
MMPLL,1, -9.072714, 40.296113
MMPLL,2, -8.884357, 40.297468
MMPLL,3, -8.883407, 40.207293
MMPLL,4, -9.071513, 40.205939
MM1B,3.000174
Other Grid Setup
GRGRID,Yes,1 Km,No,8388608,12632256,1 Km,8388608,16777215,8,1,Yes,No,Yes,x
MOP,Map Open Position,0,0
IWH,Map Image Width/Height,5336,3336
