OziExplorer Map Data File Version 2.2
M888 - 227
\227.GIF
1 ,Map Code,
European 1950 (Portugal),WGS 84, 0.0000, 0.0000,WGS 84
Reserved 1
Reserved 2
Magnetic Variation,,,W
Map Projection,(UTM) Universal Transverse Mercator,PolyCal,No,AutoCalOnly,No,BSBUseWPX,No
Point01,xy, 112, 144,in, deg, , ,N, , ,W, grid, 29, 670000, 4472000,N
Point02,xy, 5082, 3194,in, deg, , ,N, , ,W, grid, 29, 685000, 4463000,N
Point03,xy, 5113, 195,in, deg, , ,N, , ,W, grid, 29, 685000, 4472000,N
Point04,xy, 84, 3146,in, deg, , ,N, , ,W, grid, 29, 670000, 4463000,N
Point05,xy, 1770, 1161,in, deg, , ,N, , ,W, grid, 29, 675000, 4469000,N
Point06,xy, 3426, 2177,in, deg, , ,N, , ,W, grid, 29, 680000, 4466000,N
Point07,xy, 3436, 1177,in, deg, , ,N, , ,W, grid, 29, 680000, 4469000,N
Point08,xy, 1760, 2160,in, deg, , ,N, , ,W, grid, 29, 675000, 4466000,N
Point09,xy, 2753, 2837,in, deg, , ,N, , ,W, grid, 29, 678000, 4464000,N
Point10,xy, , ,in, deg, , ,N, , ,W, grid, , , ,N
Point11,xy, , ,in, deg, , ,N, , ,W, grid, , , ,N
Point12,xy, , ,in, deg, , ,N, , ,W, grid, , , ,N
Point13,xy, , ,in, deg, , ,N, , ,W, grid, , , ,N
Point14,xy, , ,in, deg, , ,N, , ,W, grid, , , ,N
Point15,xy, , ,in, deg, , ,N, , ,W, grid, , , ,N
Point16,xy, , ,in, deg, , ,N, , ,W, grid, , , ,N
Point17,xy, , ,in, deg, , ,N, , ,W, grid, , , ,N
Point18,xy, , ,in, deg, , ,N, , ,W, grid, , , ,N
Point19,xy, , ,in, deg, , ,N, , ,W, grid, , , ,N
Point20,xy, , ,in, deg, , ,N, , ,W, grid, , , ,N
Point21,xy, , ,in, deg, , ,N, , ,W, grid, , , ,N
Point22,xy, , ,in, deg, , ,N, , ,W, grid, , , ,N
Point23,xy, , ,in, deg, , ,N, , ,W, grid, , , ,N
Point24,xy, , ,in, deg, , ,N, , ,W, grid, , , ,N
Point25,xy, , ,in, deg, , ,N, , ,W, grid, , , ,N
Point26,xy, , ,in, deg, , ,N, , ,W, grid, , , ,N
Point27,xy, , ,in, deg, , ,N, , ,W, grid, , , ,N
Point28,xy, , ,in, deg, , ,N, , ,W, grid, , , ,N
Point29,xy, , ,in, deg, , ,N, , ,W, grid, , , ,N
Point30,xy, , ,in, deg, , ,N, , ,W, grid, , , ,N
Projection Setup, 39.666666667, -8.131906667, 1.000000000, 200000.00, 300000.00,,,,,
Map Feature = MF ; Map Comment = MC These follow if they exist
Track File = TF These follow if they exist
Moving Map Parameters = MM? These follow if they exist
MM0,Yes
MMPNUM,4
MMPXY,1,0,0
MMPXY,2,5336,0
MMPXY,3,5336,3337
MMPXY,4,0,3337
MMPLL,1, -7.001345, 40.384506
MMPLL,2, -6.812835, 40.382520
MMPLL,3, -6.814589, 40.292384
MMPLL,4, -7.002848, 40.294360
MM1B,3.000077
Other Grid Setup
GRGRID,Yes,1 Km,No,8388608,12632256,1 Km,8388608,16777215,8,1,Yes,No,Yes,x
MOP,Map Open Position,0,0
IWH,Map Image Width/Height,5336,3337
