OziExplorer Map Data File Version 2.2
M888 - 205
\205.GIF
1 ,Map Code,
European 1950 (Portugal),WGS 84, 0.0000, 0.0000,WGS 84
Reserved 1
Reserved 2
Magnetic Variation,,,W
Map Projection,(UTM) Universal Transverse Mercator,PolyCal,No,AutoCalOnly,No,BSBUseWPX,No
Point01,xy, 177, 143,in, deg, , ,N, , ,W, grid, 29, 670000, 4492000,N
Point02,xy, 5146, 3190,in, deg, , ,N, , ,W, grid, 29, 685000, 4483000,N
Point03,xy, 5175, 192,in, deg, , ,N, , ,W, grid, 29, 685000, 4492000,N
Point04,xy, 147, 3144,in, deg, , ,N, , ,W, grid, 29, 670000, 4483000,N
Point05,xy, 1834, 1159,in, deg, , ,N, , ,W, grid, 29, 675000, 4489000,N
Point06,xy, 3489, 2174,in, deg, , ,N, , ,W, grid, 29, 680000, 4486000,N
Point07,xy, 3499, 1175,in, deg, , ,N, , ,W, grid, 29, 680000, 4489000,N
Point08,xy, 1824, 2158,in, deg, , ,N, , ,W, grid, 29, 675000, 4486000,N
Point09,xy, 2817, 2834,in, deg, , ,N, , ,W, grid, 29, 678000, 4484000,N
Point10,xy, , ,in, deg, , ,N, , ,W, grid, 29, , ,N
Point11,xy, , ,in, deg, , ,N, , ,W, grid, 29, , ,N
Point12,xy, , ,in, deg, , ,N, , ,W, grid, 29, , ,N
Point13,xy, , ,in, deg, , ,N, , ,W, grid, 29, , ,N
Point14,xy, , ,in, deg, , ,N, , ,W, grid, 29, , ,N
Point15,xy, , ,in, deg, , ,N, , ,W, grid, 29, , ,N
Point16,xy, , ,in, deg, , ,N, , ,W, grid, 29, , ,N
Point17,xy, , ,in, deg, , ,N, , ,W, grid, 29, , ,N
Point18,xy, , ,in, deg, , ,N, , ,W, grid, 29, , ,N
Point19,xy, , ,in, deg, , ,N, , ,W, grid, 29, , ,N
Point20,xy, , ,in, deg, , ,N, , ,W, grid, 29, , ,N
Point21,xy, , ,in, deg, , ,N, , ,W, grid, 29, , ,N
Point22,xy, , ,in, deg, , ,N, , ,W, grid, 29, , ,N
Point23,xy, , ,in, deg, , ,N, , ,W, grid, 29, , ,N
Point24,xy, , ,in, deg, , ,N, , ,W, grid, 29, , ,N
Point25,xy, , ,in, deg, , ,N, , ,W, grid, 29, , ,N
Point26,xy, , ,in, deg, , ,N, , ,W, grid, 29, , ,N
Point27,xy, , ,in, deg, , ,N, , ,W, grid, 29, , ,N
Point28,xy, , ,in, deg, , ,N, , ,W, grid, 29, , ,N
Point29,xy, , ,in, deg, , ,N, , ,W, grid, 29, , ,N
Point30,xy, , ,in, deg, , ,N, , ,W, grid, 29, , ,N
Projection Setup, 39.666666667, -8.131906667, 1.000000000, 200000.00, 300000.00,,,,,
Map Feature = MF ; Map Comment = MC These follow if they exist
Track File = TF These follow if they exist
Moving Map Parameters = MM? These follow if they exist
MM0,Yes
MMPNUM,4
MMPXY,1,0,0
MMPXY,2,5336,0
MMPXY,3,5336,3336
MMPXY,4,0,3336
MMPLL,1, -6.998268, 40.564570
MMPLL,2, -6.809212, 40.562514
MMPLL,3, -6.810988, 40.472377
MMPLL,4, -6.999791, 40.474424
MM1B,3.000779
Other Grid Setup
GRGRID,Yes,1 Km,No,8388608,12632256,1 Km,8388608,16777215,8,1,Yes,No,Yes,x
MOP,Map Open Position,0,0
IWH,Map Image Width/Height,5336,3336
