OziExplorer Map Data File Version 2.2
M888 - 162A
\162A.GIF
1 ,Map Code,
European 1950 (Portugal),WGS 84, 0.0000, 0.0000,WGS 84
Reserved 1
Reserved 2
Magnetic Variation,,,W
Map Projection,(UTM) Universal Transverse Mercator,PolyCal,No,AutoCalOnly,No,BSBUseWPX,No
Point01,xy, 259, 277,in, deg, , ,N, , ,W, grid, 29, 510000, 4520000,N
Point02,xy, 5230, 2995,in, deg, , ,N, , ,W, grid, 29, 525000, 4512000,N
Point03,xy, 5256, 330,in, deg, , ,N, , ,W, grid, 29, 525000, 4520000,N
Point04,xy, 226, 3279,in, deg, , ,N, , ,W, grid, 29, 510000, 4511000,N
Point05,xy, 1914, 1296,in, deg, , ,N, , ,W, grid, 29, 515000, 4517000,N
Point06,xy, 3570, 2314,in, deg, , ,N, , ,W, grid, 29, 520000, 4514000,N
Point07,xy, 3580, 1314,in, deg, , ,N, , ,W, grid, 29, 520000, 4517000,N
Point08,xy, 1901, 2630,in, deg, , ,N, , ,W, grid, 29, 515000, 4513000,N
Point09,xy, 2897, 2972,in, deg, , ,N, , ,W, grid, 29, 518000, 4512000,N
Point10,xy, , ,in, deg, , ,N, , ,W, grid, 29, , ,N
Point11,xy, , ,in, deg, , ,N, , ,W, grid, 29, , ,N
Point12,xy, , ,in, deg, , ,N, , ,W, grid, 29, , ,N
Point13,xy, , ,in, deg, , ,N, , ,W, grid, 29, , ,N
Point14,xy, , ,in, deg, , ,N, , ,W, grid, 29, , ,N
Point15,xy, , ,in, deg, , ,N, , ,W, grid, 29, , ,N
Point16,xy, , ,in, deg, , ,N, , ,W, grid, 29, , ,N
Point17,xy, , ,in, deg, , ,N, , ,W, grid, 29, , ,N
Point18,xy, , ,in, deg, , ,N, , ,W, grid, 29, , ,N
Point19,xy, , ,in, deg, , ,N, , ,W, grid, 29, , ,N
Point20,xy, , ,in, deg, , ,N, , ,W, grid, 29, , ,N
Point21,xy, , ,in, deg, , ,N, , ,W, grid, 29, , ,N
Point22,xy, , ,in, deg, , ,N, , ,W, grid, 29, , ,N
Point23,xy, , ,in, deg, , ,N, , ,W, grid, 29, , ,N
Point24,xy, , ,in, deg, , ,N, , ,W, grid, 29, , ,N
Point25,xy, , ,in, deg, , ,N, , ,W, grid, 29, , ,N
Point26,xy, , ,in, deg, , ,N, , ,W, grid, 29, , ,N
Point27,xy, , ,in, deg, , ,N, , ,W, grid, 29, , ,N
Point28,xy, , ,in, deg, , ,N, , ,W, grid, 29, , ,N
Point29,xy, , ,in, deg, , ,N, , ,W, grid, 29, , ,N
Point30,xy, , ,in, deg, , ,N, , ,W, grid, 29, , ,N
Projection Setup, 39.666666667, -8.131906667, 1.000000000, 200000.00, 300000.00,,,,,
Map Feature = MF ; Map Comment = MC These follow if they exist
Track File = TF These follow if they exist
Moving Map Parameters = MM? These follow if they exist
MM0,Yes
MMPNUM,4
MMPXY,1,0,0
MMPXY,2,5336,0
MMPXY,3,5336,3336
MMPXY,4,0,3336
MMPLL,1, -8.890684, 40.837721
MMPLL,2, -8.700777, 40.838865
MMPLL,3, -8.699961, 40.748731
MMPLL,4, -8.889611, 40.747587
MM1B,3.000543
Other Grid Setup
GRGRID,Yes,1 Km,No,8388608,12632256,1 Km,8388608,16777215,8,1,Yes,No,Yes,x
MOP,Map Open Position,0,0
IWH,Map Image Width/Height,5337,3336
