OziExplorer Map Data File Version 2.2
M888 - 142A
\142A.GIF
1 ,Map Code,
European 1950 (Portugal),WGS 84, 0.0000, 0.0000,WGS 84
Reserved 1
Reserved 2
Magnetic Variation,,,W
Map Projection,(UTM) Universal Transverse Mercator,PolyCal,No,AutoCalOnly,No,BSBUseWPX,No
Point01,xy, 39, 192,in, deg, , ,N, , ,W, grid, 29, 685000, 4552000,N
Point02,xy, 5008, 3240,in, deg, , ,N, , ,W, grid, 29, 700000, 4543000,N
Point03,xy, 5040, 242,in, deg, , ,N, , ,W, grid, 29, 700000, 4552000,N
Point04,xy, 11, 3190,in, deg, , ,N, , ,W, grid, 29, 685000, 4543000,N
Point05,xy, 1697, 1206,in, deg, , ,N, , ,W, grid, 29, 690000, 4549000,N
Point06,xy, 3353, 2223,in, deg, , ,N, , ,W, grid, 29, 695000, 4546000,N
Point07,xy, 3364, 1223,in, deg, , ,N, , ,W, grid, 29, 695000, 4549000,N
Point08,xy, 1688, 2206,in, deg, , ,N, , ,W, grid, 29, 690000, 4546000,N
Point09,xy, 2680, 2882,in, deg, , ,N, , ,W, grid, 29, 693000, 4544000,N
Point10,xy, , ,in, deg, , ,N, , ,W, grid, , , ,N
Point11,xy, , ,in, deg, , ,N, , ,W, grid, , , ,N
Point12,xy, , ,in, deg, , ,N, , ,W, grid, , , ,N
Point13,xy, , ,in, deg, , ,N, , ,W, grid, , , ,N
Point14,xy, , ,in, deg, , ,N, , ,W, grid, , , ,N
Point15,xy, , ,in, deg, , ,N, , ,W, grid, , , ,N
Point16,xy, , ,in, deg, , ,N, , ,W, grid, , , ,N
Point17,xy, , ,in, deg, , ,N, , ,W, grid, , , ,N
Point18,xy, , ,in, deg, , ,N, , ,W, grid, , , ,N
Point19,xy, , ,in, deg, , ,N, , ,W, grid, , , ,N
Point20,xy, , ,in, deg, , ,N, , ,W, grid, , , ,N
Point21,xy, , ,in, deg, , ,N, , ,W, grid, , , ,N
Point22,xy, , ,in, deg, , ,N, , ,W, grid, , , ,N
Point23,xy, , ,in, deg, , ,N, , ,W, grid, , , ,N
Point24,xy, , ,in, deg, , ,N, , ,W, grid, , , ,N
Point25,xy, , ,in, deg, , ,N, , ,W, grid, , , ,N
Point26,xy, , ,in, deg, , ,N, , ,W, grid, , , ,N
Point27,xy, , ,in, deg, , ,N, , ,W, grid, , , ,N
Point28,xy, , ,in, deg, , ,N, , ,W, grid, , , ,N
Point29,xy, , ,in, deg, , ,N, , ,W, grid, , , ,N
Point30,xy, , ,in, deg, , ,N, , ,W, grid, , , ,N
Projection Setup, 39.666666667, -8.131906667, 1.000000000, 200000.00, 300000.00,,,,,
Map Feature = MF ; Map Comment = MC These follow if they exist
Track File = TF These follow if they exist
Moving Map Parameters = MM? These follow if they exist
MM0,Yes
MMPNUM,4
MMPXY,1,0,0
MMPXY,2,5336,0
MMPXY,3,5336,3336
MMPXY,4,0,3336
MMPLL,1, -6.798544, 41.102701
MMPLL,2, -6.608002, 41.100344
MMPLL,3, -6.610074, 41.010191
MMPLL,4, -6.800356, 41.012539
MM1B,3.000318
Other Grid Setup
GRGRID,Yes,1 Km,No,8388608,12632256,1 Km,8388608,16777215,8,1,Yes,No,Yes,x
MOP,Map Open Position,0,0
IWH,Map Image Width/Height,5336,3336
