OziExplorer Map Data File Version 2.2
M888 - 142
\142.GIF
1 ,Map Code,
European 1950 (Portugal),WGS 84, 0.0000, 0.0000,WGS 84
Reserved 1
Reserved 2
Magnetic Variation,,,W
Map Projection,(UTM) Universal Transverse Mercator,PolyCal,No,AutoCalOnly,No,BSBUseWPX,No
Point01,xy, 40, 139,in, deg, , ,N, , ,W, grid, 29, 669000, 4552000,N
Point02,xy, 5010, 3186,in, deg, , ,N, , ,W, grid, 29, 684000, 4543000,N
Point03,xy, 5038, 186,in, deg, , ,N, , ,W, grid, 29, 684000, 4552000,N
Point04,xy, 11, 3138,in, deg, , ,N, , ,W, grid, 29, 669000, 4543000,N
Point05,xy, 1697, 1155,in, deg, , ,N, , ,W, grid, 29, 674000, 4549000,N
Point06,xy, 3354, 2171,in, deg, , ,N, , ,W, grid, 29, 679000, 4546000,N
Point07,xy, 3363, 1171,in, deg, , ,N, , ,W, grid, 29, 679000, 4549000,N
Point08,xy, 1687, 2154,in, deg, , ,N, , ,W, grid, 29, 674000, 4546000,N
Point09,xy, 2682, 2830,in, deg, , ,N, , ,W, grid, 29, 677000, 4544000,N
Point10,xy, , ,in, deg, , ,N, , ,W, grid, 29, , ,N
Point11,xy, , ,in, deg, , ,N, , ,W, grid, 29, , ,N
Point12,xy, , ,in, deg, , ,N, , ,W, grid, 29, , ,N
Point13,xy, , ,in, deg, , ,N, , ,W, grid, 29, , ,N
Point14,xy, , ,in, deg, , ,N, , ,W, grid, 29, , ,N
Point15,xy, , ,in, deg, , ,N, , ,W, grid, 29, , ,N
Point16,xy, , ,in, deg, , ,N, , ,W, grid, 29, , ,N
Point17,xy, , ,in, deg, , ,N, , ,W, grid, 29, , ,N
Point18,xy, , ,in, deg, , ,N, , ,W, grid, 29, , ,N
Point19,xy, , ,in, deg, , ,N, , ,W, grid, 29, , ,N
Point20,xy, , ,in, deg, , ,N, , ,W, grid, 29, , ,N
Point21,xy, , ,in, deg, , ,N, , ,W, grid, 29, , ,N
Point22,xy, , ,in, deg, , ,N, , ,W, grid, 29, , ,N
Point23,xy, , ,in, deg, , ,N, , ,W, grid, 29, , ,N
Point24,xy, , ,in, deg, , ,N, , ,W, grid, 29, , ,N
Point25,xy, , ,in, deg, , ,N, , ,W, grid, 29, , ,N
Point26,xy, , ,in, deg, , ,N, , ,W, grid, 29, , ,N
Point27,xy, , ,in, deg, , ,N, , ,W, grid, 29, , ,N
Point28,xy, , ,in, deg, , ,N, , ,W, grid, 29, , ,N
Point29,xy, , ,in, deg, , ,N, , ,W, grid, 29, , ,N
Point30,xy, , ,in, deg, , ,N, , ,W, grid, 29, , ,N
Projection Setup, 39.666666667, -8.131906667, 1.000000000, 200000.00, 300000.00,,,,,
Map Feature = MF ; Map Comment = MC These follow if they exist
Track File = TF These follow if they exist
Moving Map Parameters = MM? These follow if they exist
MM0,Yes
MMPNUM,4
MMPXY,1,0,0
MMPXY,2,5336,0
MMPXY,3,5336,3336
MMPXY,4,0,3336
MMPLL,1, -6.988954, 41.104769
MMPLL,2, -6.798370, 41.102656
MMPLL,3, -6.800259, 41.012537
MMPLL,4, -6.990584, 41.014640
MM1B,3.000596
Other Grid Setup
GRGRID,Yes,1 Km,No,8388608,12632256,1 Km,8388608,16777215,8,1,Yes,No,Yes,x
MOP,Map Open Position,0,0
IWH,Map Image Width/Height,5337,3336
