OziExplorer Map Data File Version 2.2
M888 - 078
\078.gif
1 ,Map Code,
Datum Lisboa (Portugal),WGS 84, 0.0000, 0.0000,WGS 84
Reserved 1
Reserved 2
Magnetic Variation,,,W
Map Projection,Transverse Mercator,PolyCal,No,AutoCalOnly,No,BSBUseWPX,No
Point01,xy, 335, 333,in, deg, , ,N, , ,W, grid, 29, 297000, 509000,N
Point02,xy, 5000, 3000,in, deg, , ,N, , ,W, grid, 29, 311000, 501000,N
Point03,xy, 4999, 335,in, deg, , ,N, , ,W, grid, 29, 311000, 509000,N
Point04,xy, 336, 2999,in, deg, , ,N, , ,W, grid, 29, 297000, 501000,N
Point05,xy, 2001, 999,in, deg, , ,N, , ,W, grid, , 302000, 507000,N
Point06,xy, 3666, 2333,in, deg, , ,N, , ,W, grid, , 307000, 503000,N
Point07,xy, 3667, 1000,in, deg, , ,N, , ,W, grid, , 307000, 507000,N
Point08,xy, 2001, 2333,in, deg, , ,N, , ,W, grid, , 302000, 503000,N
Point09,xy, 3003, 1666,in, deg, , ,N, , ,W, grid, , 305000, 505000,N
Point10,xy, , ,in, deg, , ,N, , ,W, grid, , , ,N
Point11,xy, , ,in, deg, , ,N, , ,W, grid, , , ,N
Point12,xy, , ,in, deg, , ,N, , ,W, grid, , , ,N
Point13,xy, , ,in, deg, , ,N, , ,W, grid, , , ,N
Point14,xy, , ,in, deg, , ,N, , ,W, grid, , , ,N
Point15,xy, , ,in, deg, , ,N, , ,W, grid, , , ,N
Point16,xy, , ,in, deg, , ,N, , ,W, grid, , , ,N
Point17,xy, , ,in, deg, , ,N, , ,W, grid, , , ,N
Point18,xy, , ,in, deg, , ,N, , ,W, grid, , , ,N
Point19,xy, , ,in, deg, , ,N, , ,W, grid, , , ,N
Point20,xy, , ,in, deg, , ,N, , ,W, grid, , , ,N
Point21,xy, , ,in, deg, , ,N, , ,W, grid, , , ,N
Point22,xy, , ,in, deg, , ,N, , ,W, grid, , , ,N
Point23,xy, , ,in, deg, , ,N, , ,W, grid, , , ,N
Point24,xy, , ,in, deg, , ,N, , ,W, grid, , , ,N
Point25,xy, , ,in, deg, , ,N, , ,W, grid, , , ,N
Point26,xy, , ,in, deg, , ,N, , ,W, grid, , , ,N
Point27,xy, , ,in, deg, , ,N, , ,W, grid, , , ,N
Point28,xy, , ,in, deg, , ,N, , ,W, grid, , , ,N
Point29,xy, , ,in, deg, , ,N, , ,W, grid, , , ,N
Point30,xy, , ,in, deg, , ,N, , ,W, grid, , , ,N
Projection Setup, 39.666666667, -8.131906667, 1.000000000, 200000.00, 300000.00,,,,,
Map Feature = MF ; Map Comment = MC These follow if they exist
Track File = TF These follow if they exist
Moving Map Parameters = MM? These follow if they exist
MM0,Yes
MMPNUM,4
MMPXY,1,0,0
MMPXY,2,5337,0
MMPXY,3,5337,3336
MMPXY,4,0,3336
MMPLL,1, -6.981371, 41.551942
MMPLL,2, -6.789407, 41.549905
MMPLL,3, -6.791295, 41.459793
MMPLL,4, -6.982992, 41.461824
MM1B,3.001094
LL Grid Setup
LLGRID,No,No Grid,Yes,255,16711680,0,Geen label,0,16777215,7,1,Yes,x
Other Grid Setup
GRGRID,Yes,1 Km,No,8388608,12632256,1 Km,8388608,16777215,8,1,Yes,No,Yes,x
MOP,Map Open Position,0,0
IWH,Map Image Width/Height,5337,3336
