OziExplorer Map Data File Version 2.2
M888 - 077
\077.gif
1 ,Map Code,
European 1950 (Portugal),WGS 84, 0.0000, 0.0000,WGS 84
Reserved 1
Reserved 2
Magnetic Variation,,,W
Map Projection,(UTM) Universal Transverse Mercator,PolyCal,No,AutoCalOnly,No,BSBUseWPX,No
Point01,xy, 207, 82,in, deg, , ,N, , ,W, grid, 29, 653000, 4602000,N
Point02,xy, 5174, 3130,in, deg, , ,N, , ,W, grid, 29, 668000, 4593000,N
Point03,xy, 5204, 132,in, deg, , ,N, , ,W, grid, 29, 668000, 4602000,N
Point04,xy, 179, 3083,in, deg, , ,N, , ,W, grid, 29, 653000, 4593000,N
Point05,xy, 1863, 1098,in, deg, , ,N, , ,W, grid, 29, 658000, 4599000,N
Point06,xy, 3518, 2114,in, deg, , ,N, , ,W, grid, 29, 663000, 4596000,N
Point07,xy, 3528, 1114,in, deg, , ,N, , ,W, grid, 29, 663000, 4599000,N
Point08,xy, 1853, 2097,in, deg, , ,N, , ,W, grid, 29, 658000, 4596000,N
Point09,xy, 2846, 2773,in, deg, , ,N, , ,W, grid, 29, 661000, 4594000,N
Point10,xy, , ,in, deg, , ,N, , ,W, grid, , , ,N
Point11,xy, , ,in, deg, , ,N, , ,W, grid, , , ,N
Point12,xy, , ,in, deg, , ,N, , ,W, grid, , , ,N
Point13,xy, , ,in, deg, , ,N, , ,W, grid, , , ,N
Point14,xy, , ,in, deg, , ,N, , ,W, grid, , , ,N
Point15,xy, , ,in, deg, , ,N, , ,W, grid, , , ,N
Point16,xy, , ,in, deg, , ,N, , ,W, grid, , , ,N
Point17,xy, , ,in, deg, , ,N, , ,W, grid, , , ,N
Point18,xy, , ,in, deg, , ,N, , ,W, grid, , , ,N
Point19,xy, , ,in, deg, , ,N, , ,W, grid, , , ,N
Point20,xy, , ,in, deg, , ,N, , ,W, grid, , , ,N
Point21,xy, , ,in, deg, , ,N, , ,W, grid, , , ,N
Point22,xy, , ,in, deg, , ,N, , ,W, grid, , , ,N
Point23,xy, , ,in, deg, , ,N, , ,W, grid, , , ,N
Point24,xy, , ,in, deg, , ,N, , ,W, grid, , , ,N
Point25,xy, , ,in, deg, , ,N, , ,W, grid, , , ,N
Point26,xy, , ,in, deg, , ,N, , ,W, grid, , , ,N
Point27,xy, , ,in, deg, , ,N, , ,W, grid, , , ,N
Point28,xy, , ,in, deg, , ,N, , ,W, grid, , , ,N
Point29,xy, , ,in, deg, , ,N, , ,W, grid, , , ,N
Point30,xy, , ,in, deg, , ,N, , ,W, grid, , , ,N
Projection Setup, 39.666666667, -8.131906667, 1.000000000, 200000.00, 300000.00,,,,,
Map Feature = MF ; Map Comment = MC These follow if they exist
Track File = TF These follow if they exist
Moving Map Parameters = MM? These follow if they exist
MM0,Yes
MMPNUM,4
MMPXY,1,0,0
MMPXY,2,5336,0
MMPXY,3,5336,3336
MMPXY,4,0,3336
MMPLL,1, -7.172866, 41.556597
MMPLL,2, -6.980840, 41.554787
MMPLL,3, -6.982473, 41.464665
MMPLL,4, -7.174232, 41.466467
MM1B,3.002164
LL Grid Setup
LLGRID,No,No Grid,Yes,255,16711680,0,Geen label,0,16777215,7,1,Yes,x
Other Grid Setup
GRGRID,Yes,1 Km,No,8388608,12632256,1 Km,8388608,16777215,8,1,Yes,No,Yes,x
MOP,Map Open Position,0,0
IWH,Map Image Width/Height,5336,3336
