OziExplorer Map Data File Version 2.2
M888 - 062
\062.gif
1 ,Map Code,
European 1950 (Portugal),WGS 84, 0.0000, 0.0000,WGS 84
Reserved 1
Reserved 2
Magnetic Variation,,,W
Map Projection,(UTM) Universal Transverse Mercator,PolyCal,No,AutoCalOnly,No,BSBUseWPX,No
Point01,xy, 241, 28,in, deg, , ,N, , ,W, grid, 29, 637000, 4612000,N
Point02,xy, 5207, 3077,in, deg, , ,N, , ,W, grid, 29, 652000, 4603000,N
Point03,xy, 5236, 77,in, deg, , ,N, , ,W, grid, 29, 652000, 4612000,N
Point04,xy, 210, 3025,in, deg, , ,N, , ,W, grid, 29, 637000, 4603000,N
Point05,xy, 1897, 1045,in, deg, , ,N, , ,W, grid, 29, 642000, 4609000,N
Point06,xy, 3551, 2060,in, deg, , ,N, , ,W, grid, 29, 647000, 4606000,N
Point07,xy, 3562, 1060,in, deg, , ,N, , ,W, grid, 29, 647000, 4609000,N
Point08,xy, 1887, 2044,in, deg, , ,N, , ,W, grid, 29, 642000, 4606000,N
Point09,xy, 2879, 2721,in, deg, , ,N, , ,W, grid, 29, 645000, 4604000,N
Point10,xy, , ,in, deg, , ,N, , ,W, grid, , , ,N
Point11,xy, , ,in, deg, , ,N, , ,W, grid, , , ,N
Point12,xy, , ,in, deg, , ,N, , ,W, grid, , , ,N
Point13,xy, , ,in, deg, , ,N, , ,W, grid, , , ,N
Point14,xy, , ,in, deg, , ,N, , ,W, grid, , , ,N
Point15,xy, , ,in, deg, , ,N, , ,W, grid, , , ,N
Point16,xy, , ,in, deg, , ,N, , ,W, grid, , , ,N
Point17,xy, , ,in, deg, , ,N, , ,W, grid, , , ,N
Point18,xy, , ,in, deg, , ,N, , ,W, grid, , , ,N
Point19,xy, , ,in, deg, , ,N, , ,W, grid, , , ,N
Point20,xy, , ,in, deg, , ,N, , ,W, grid, , , ,N
Point21,xy, , ,in, deg, , ,N, , ,W, grid, , , ,N
Point22,xy, , ,in, deg, , ,N, , ,W, grid, , , ,N
Point23,xy, , ,in, deg, , ,N, , ,W, grid, , , ,N
Point24,xy, , ,in, deg, , ,N, , ,W, grid, , , ,N
Point25,xy, , ,in, deg, , ,N, , ,W, grid, , , ,N
Point26,xy, , ,in, deg, , ,N, , ,W, grid, , , ,N
Point27,xy, , ,in, deg, , ,N, , ,W, grid, , , ,N
Point28,xy, , ,in, deg, , ,N, , ,W, grid, , , ,N
Point29,xy, , ,in, deg, , ,N, , ,W, grid, , , ,N
Point30,xy, , ,in, deg, , ,N, , ,W, grid, , , ,N
Projection Setup, 39.666666667, -8.131906667, 1.000000000, 200000.00, 300000.00,,,,,
Map Feature = MF ; Map Comment = MC These follow if they exist
Track File = TF These follow if they exist
Moving Map Parameters = MM? These follow if they exist
MM0,Yes
MMPNUM,4
MMPXY,1,0,0
MMPXY,2,5337,0
MMPXY,3,5337,3336
MMPXY,4,0,3336
MMPLL,1, -7.363600, 41.648052
MMPLL,2, -7.171240, 41.646601
MMPLL,3, -7.172584, 41.556460
MMPLL,4, -7.364676, 41.557904
MM1B,3.002294
LL Grid Setup
LLGRID,No,No Grid,Yes,255,16711680,0,Geen label,0,16777215,7,1,Yes,x
Other Grid Setup
GRGRID,Yes,1 Km,No,8388608,12632256,1 Km,8388608,16777215,8,1,Yes,No,Yes,x
MOP,Map Open Position,0,0
IWH,Map Image Width/Height,5337,3336
