OziExplorer Map Data File Version 2.2
Libya.png
M:\OZI\OZI CARTES\AFRIQUE\- Algérie Maroc Mauritanie Sahara Sénégal Maili Niger\PAYS\LIBYA.PNG
1 ,Map Code,
WGS 84,WGS 84, 0.0000, 0.0000,WGS 84
Reserved 1
Reserved 2
Magnetic Variation,,,E
Map Projection,Latitude/Longitude,PolyCal,No,AutoCalOnly,No,BSBUseWPX,No
Point01,xy, 227, 456,in, deg, 30, 0,N, 012, 0,E, grid, , , ,N
Point02,xy, 815, 454,in, deg, 30, 0,N, 024, 0,E, grid, , , ,N
Point03,xy, 829, 791,in, deg, 24, 0,N, 024, 0,E, grid, , , ,N
Point04,xy, 216, 795,in, deg, 24, 0,N, 012, 0,E, grid, , , ,N
Point05,xy, , ,in, deg, , ,N, , ,W, grid, , , ,N
Point06,xy, , ,in, deg, , ,N, , ,W, grid, , , ,N
Point07,xy, , ,in, deg, , ,N, , ,W, grid, , , ,N
Point08,xy, , ,in, deg, , ,N, , ,W, grid, , , ,N
Point09,xy, , ,in, deg, , ,N, , ,W, grid, , , ,N
Point10,xy, , ,in, deg, , ,, , ,, grid, , , ,
Point11,xy, , ,in, deg, , ,, , ,, grid, , , ,
Point12,xy, , ,in, deg, , ,, , ,, grid, , , ,
Point13,xy, , ,in, deg, , ,, , ,, grid, , , ,
Point14,xy, , ,in, deg, , ,, , ,, grid, , , ,
Point15,xy, , ,in, deg, , ,, , ,, grid, , , ,
Point16,xy, , ,in, deg, , ,, , ,, grid, , , ,
Point17,xy, , ,in, deg, , ,, , ,, grid, , , ,
Point18,xy, , ,in, deg, , ,, , ,, grid, , , ,
Point19,xy, , ,in, deg, , ,, , ,, grid, , , ,
Point20,xy, , ,in, deg, , ,, , ,, grid, , , ,
Point21,xy, , ,in, deg, , ,, , ,, grid, , , ,
Point22,xy, , ,in, deg, , ,, , ,, grid, , , ,
Point23,xy, , ,in, deg, , ,, , ,, grid, , , ,
Point24,xy, , ,in, deg, , ,, , ,, grid, , , ,
Point25,xy, , ,in, deg, , ,, , ,, grid, , , ,
Point26,xy, , ,in, deg, , ,, , ,, grid, , , ,
Point27,xy, , ,in, deg, , ,, , ,, grid, , , ,
Point28,xy, , ,in, deg, , ,, , ,, grid, , , ,
Point29,xy, , ,in, deg, , ,, , ,, grid, , , ,
Point30,xy, , ,in, deg, , ,, , ,, grid, , , ,
Projection Setup,,,,,,,,,,
Map Feature = MF ; Map Comment = MC These follow if they exist
Track File = TF These follow if they exist
Moving Map Parameters = MM? These follow if they exist
MM0,Yes
MMPNUM,4
MMPXY,1,0,0
MMPXY,2,1004,0
MMPXY,3,1004,1206
MMPXY,4,0,1206
MMPLL,1, 7.629260, 38.122947
MMPLL,2, 27.692088, 38.033911
MMPLL,3, 27.585140, 16.626101
MMPLL,4, 7.522312, 16.715138
MM1B,1974.732337
LL Grid Setup
LLGRID,No,No Grid,Yes,255,16711680,0,No Labels,0,16777215,7,1,Yes,x
Other Grid Setup
GRGRID,No,No Grid,Yes,255,16711680,No Labels,0,16777215,8,1,Yes,No,No,x
MOP,Map Open Position,0,0
IWH,Map Image Width/Height,1004,1206
