OziExplorer Map Data File Version 2.2
Eq_guinea.png
M:\OZI\OZI CARTES\AFRIQUE\- Algérie Maroc Mauritanie Sahara Sénégal Maili Niger\PAYS\EQ_GUINEA.PNG
1 ,Map Code,
WGS 84,WGS 84, 0.0000, 0.0000,WGS 84
Reserved 1
Reserved 2
Magnetic Variation,,,E
Map Projection,Latitude/Longitude,PolyCal,No,AutoCalOnly,No,BSBUseWPX,No
Point01,xy, 81, 69,in, deg, 04, 0,N, 008, 0,E, grid, , , ,N
Point02,xy, 1112, 70,in, deg, 04, 0,N, 011, 0,E, grid, , , ,N
Point03,xy, 1113, 1436,in, deg, 00, 0,N, 011, 0,E, grid, , , ,N
Point04,xy, 426, 1094,in, deg, 01, 0,N, 009, 0,E, grid, , , ,N
Point05,xy, , ,in, deg, , ,N, , ,W, grid, , , ,N
Point06,xy, , ,in, deg, , ,N, , ,W, grid, , , ,N
Point07,xy, , ,in, deg, , ,N, , ,W, grid, , , ,N
Point08,xy, , ,in, deg, , ,N, , ,W, grid, , , ,N
Point09,xy, , ,in, deg, , ,N, , ,W, grid, , , ,N
Point10,xy, , ,in, deg, , ,, , ,, grid, , , ,
Point11,xy, , ,in, deg, , ,, , ,, grid, , , ,
Point12,xy, , ,in, deg, , ,, , ,, grid, , , ,
Point13,xy, , ,in, deg, , ,, , ,, grid, , , ,
Point14,xy, , ,in, deg, , ,, , ,, grid, , , ,
Point15,xy, , ,in, deg, , ,, , ,, grid, , , ,
Point16,xy, , ,in, deg, , ,, , ,, grid, , , ,
Point17,xy, , ,in, deg, , ,, , ,, grid, , , ,
Point18,xy, , ,in, deg, , ,, , ,, grid, , , ,
Point19,xy, , ,in, deg, , ,, , ,, grid, , , ,
Point20,xy, , ,in, deg, , ,, , ,, grid, , , ,
Point21,xy, , ,in, deg, , ,, , ,, grid, , , ,
Point22,xy, , ,in, deg, , ,, , ,, grid, , , ,
Point23,xy, , ,in, deg, , ,, , ,, grid, , , ,
Point24,xy, , ,in, deg, , ,, , ,, grid, , , ,
Point25,xy, , ,in, deg, , ,, , ,, grid, , , ,
Point26,xy, , ,in, deg, , ,, , ,, grid, , , ,
Point27,xy, , ,in, deg, , ,, , ,, grid, , , ,
Point28,xy, , ,in, deg, , ,, , ,, grid, , , ,
Point29,xy, , ,in, deg, , ,, , ,, grid, , , ,
Point30,xy, , ,in, deg, , ,, , ,, grid, , , ,
Projection Setup,,,,,,,,,,
Map Feature = MF ; Map Comment = MC These follow if they exist
Track File = TF These follow if they exist
Moving Map Parameters = MM? These follow if they exist
MM0,Yes
MMPNUM,4
MMPXY,1,0,0
MMPXY,2,1305,0
MMPXY,3,1305,1606
MMPXY,4,0,1606
MMPLL,1, 7.763914, 4.201974
MMPLL,2, 11.562269, 4.205375
MMPLL,3, 11.557779, -0.497104
MMPLL,4, 7.759424, -0.500504
MM1B,323.261066
LL Grid Setup
LLGRID,No,No Grid,Yes,255,16711680,0,No Labels,0,16777215,7,1,Yes,x
Other Grid Setup
GRGRID,No,No Grid,Yes,255,16711680,No Labels,0,16777215,8,1,Yes,No,No,x
MOP,Map Open Position,0,0
IWH,Map Image Width/Height,1305,1606
