OziExplorer Map Data File Version 2.1
Corfu S
C:\U\OziExplorer\Maps\CorfuS.tif
1 TIFF scale factor
WGS 84,WGS 84, 0.0000, 0.0000,WGS 84
Reserved 1
Reserved 2
Magnetic Variation,,,E
Map Projection,Latitude/Longitude,PolyCal,No,AutoCalOnly,No,BSBUseWPX,Yes
Point01,xy, 1574, 455,in, deg, 39, 27.7014,N, 20, 4.4034,E, grid, , , ,N
Point02,xy, 2074, 1527,in, deg, 39, 22.6926,N, 20, 7.2816,E, grid, , , ,N
Point03,xy, 1971, 1748,in, deg, 39, 21.7332,N, 20, 6.7932,E, grid, , , ,N
Point04,xy, 151, 721,in, deg, 39, 26.4276,N, 19, 55.791,E, grid, , , ,N
Point05,xy, 827, 1248,in, deg, 39, 24.0102,N, 19, 59.9394,E, grid, , , ,N
Point06,xy, , ,in, deg, , ,N, , ,E, grid, , , ,N
Point07,xy, , ,in, deg, , ,N, , ,E, grid, , , ,N
Point08,xy, , ,in, deg, , ,N, , ,E, grid, , , ,N
Point09,xy, , ,in, deg, , ,N, , ,E, grid, , , ,N
Point10,xy, , ,in, deg, , ,, , ,, grid, , , ,
Point11,xy, , ,in, deg, , ,, , ,, grid, , , ,
Point12,xy, , ,in, deg, , ,, , ,, grid, , , ,
Point13,xy, , ,in, deg, , ,, , ,, grid, , , ,
Point14,xy, , ,in, deg, , ,, , ,, grid, , , ,
Point15,xy, , ,in, deg, , ,, , ,, grid, , , ,
Point16,xy, , ,in, deg, , ,, , ,, grid, , , ,
Point17,xy, , ,in, deg, , ,, , ,, grid, , , ,
Point18,xy, , ,in, deg, , ,, , ,, grid, , , ,
Point19,xy, , ,in, deg, , ,, , ,, grid, , , ,
Point20,xy, , ,in, deg, , ,, , ,, grid, , , ,
Point21,xy, , ,in, deg, , ,, , ,, grid, , , ,
Point22,xy, , ,in, deg, , ,, , ,, grid, , , ,
Point23,xy, , ,in, deg, , ,, , ,, grid, , , ,
Point24,xy, , ,in, deg, , ,, , ,, grid, , , ,
Point25,xy, , ,in, deg, , ,, , ,, grid, , , ,
Point26,xy, , ,in, deg, , ,, , ,, grid, , , ,
Point27,xy, , ,in, deg, , ,, , ,, grid, , , ,
Point28,xy, , ,in, deg, , ,, , ,, grid, , , ,
Point29,xy, , ,in, deg, , ,, , ,, grid, , , ,
Point30,xy, , ,in, deg, , ,, , ,, grid, , , ,
Projection Setup,,,,,,,,,,
Map Feature = MF ; Map Comment = MC These follow if they exist
Track File = TF These follow if they exist
Moving Map Parameters = MM? These follow if they exist
MM0,Yes
MMPNUM,4
MMPXY,1,0,0
MMPXY,2,2114,0
MMPXY,3,2114,1827
MMPXY,4,0,1827
MMPLL,1, 19.915584, 39.496258
MMPLL,2, 20.127025, 39.496827
MMPLL,3, 20.126724, 39.355669
MMPLL,4, 19.915284, 39.355101
MM1B,8.604810
MOP,Map Open Position,0,0
IWH,Map Image Width/Height,2114,1827
