OziExplorer Map Data File Version 2.2
Map-024.jpg
D:\Greece\Map-024.jpg
1 ,Map Code,
WGS 84,WGS 84, 0.0000, 0.0000,WGS 84
Reserved 1
Reserved 2
Magnetic Variation,,,E
Map Projection,Latitude/Longitude,PolyCal,No,AutoCalOnly,No,BSBUseWPX,No
Point01,xy, 448, 454,in, deg, 38, 19.1412,N, 20, 24.9492,E, grid, , , ,N
Point02,xy, 4383, 95,in, deg, 38, 24.4404,N, 21, 16.6254,E, grid, , , ,N
Point03,xy, 6600, 587,in, deg, 38, 19.95,N, 21, 46.0002,E, grid, , , ,N
Point04,xy, 6723, 2330,in, deg, 38, 2.0184,N, 21, 47.9802,E, grid, , , ,N
Point05,xy, 4522, 2219,in, deg, 38, 2.6148,N, 21, 19.224,E, grid, , , ,N
Point06,xy, 1406, 3232,in, deg, 37, 50.7756,N, 20, 38.7018,E, grid, , , ,N
Point07,xy, 6472, 4554,in, deg, 37, 38.715,N, 21, 45.5436,E, grid, , , ,N
Point08,xy, , ,in, deg, , ,N, , ,W, grid, , , ,N
Point09,xy, , ,in, deg, , ,N, , ,W, grid, , , ,N
Point10,xy, , ,in, deg, , ,, , ,, grid, , , ,
Point11,xy, , ,in, deg, , ,, , ,, grid, , , ,
Point12,xy, , ,in, deg, , ,, , ,, grid, , , ,
Point13,xy, , ,in, deg, , ,, , ,, grid, , , ,
Point14,xy, , ,in, deg, , ,, , ,, grid, , , ,
Point15,xy, , ,in, deg, , ,, , ,, grid, , , ,
Point16,xy, , ,in, deg, , ,, , ,, grid, , , ,
Point17,xy, , ,in, deg, , ,, , ,, grid, , , ,
Point18,xy, , ,in, deg, , ,, , ,, grid, , , ,
Point19,xy, , ,in, deg, , ,, , ,, grid, , , ,
Point20,xy, , ,in, deg, , ,, , ,, grid, , , ,
Point21,xy, , ,in, deg, , ,, , ,, grid, , , ,
Point22,xy, , ,in, deg, , ,, , ,, grid, , , ,
Point23,xy, , ,in, deg, , ,, , ,, grid, , , ,
Point24,xy, , ,in, deg, , ,, , ,, grid, , , ,
Point25,xy, , ,in, deg, , ,, , ,, grid, , , ,
Point26,xy, , ,in, deg, , ,, , ,, grid, , , ,
Point27,xy, , ,in, deg, , ,, , ,, grid, , , ,
Point28,xy, , ,in, deg, , ,, , ,, grid, , , ,
Point29,xy, , ,in, deg, , ,, , ,, grid, , , ,
Point30,xy, , ,in, deg, , ,, , ,, grid, , , ,
Projection Setup,,,,,,,,,,
Map Feature = MF ; Map Comment = MC These follow if they exist
Track File = TF These follow if they exist
Moving Map Parameters = MM? These follow if they exist
MM0,Yes
MMPNUM,4
MMPXY,1,0,0
MMPXY,2,6804,0
MMPXY,3,6804,4676
MMPXY,4,0,4676
MMPLL,1, 20.317031, 38.396868
MMPLL,2, 21.806188, 38.437044
MMPLL,3, 21.833028, 37.627951
MMPLL,4, 20.343872, 37.587776
MM1B,19.211685
MOP,Map Open Position,0,0
IWH,Map Image Width/Height,6804,4676
