OziExplorer Map Data File Version 2.2
Map-009.jpg
D:\Greece\Map-009.jpg
1 ,Map Code,
WGS 84,WGS 84, 0.0000, 0.0000,WGS 84
Reserved 1
Reserved 2
Magnetic Variation,,,E
Map Projection,Latitude/Longitude,PolyCal,No,AutoCalOnly,No,BSBUseWPX,No
Point01,xy, 832, 212,in, deg, 39, 27.4452,N, 20, 16.5624,E, grid, , , ,N
Point02,xy, 1888, 178,in, deg, 39, 28.0158,N, 20, 30.7038,E, grid, , , ,N
Point03,xy, 3241, 243,in, deg, 39, 27.8736,N, 20, 48.7110,E, grid, , , ,N
Point04,xy, 3081, 1871,in, deg, 39, 10.6470,N, 20, 47.1978,E, grid, , , ,N
Point05,xy, 1957, 1774,in, deg, 39, 11.7798,N, 20, 31.9074,E, grid, , , ,N
Point06,xy, 413, 1860,in, deg, 39, 46.2966,N, 19, 39.6312,E, grid, , , ,N
Point07,xy, 554, 3810,in, deg, 39, 12.5112,N, 20, 8.961,E, grid, , , ,N
Point08,xy, 1752, 3859,in, deg, 39, 26.0568,N, 19, 58.4682,E, grid, , , ,N
Point09,xy, 2958, 4035,in, deg, 38, 48.2436,N, 20, 46.5786,E, grid, , , ,N
Point10,xy, , ,in, deg, , ,, , ,, grid, , , ,
Point11,xy, , ,in, deg, , ,, , ,, grid, , , ,
Point12,xy, , ,in, deg, , ,, , ,, grid, , , ,
Point13,xy, , ,in, deg, , ,, , ,, grid, , , ,
Point14,xy, , ,in, deg, , ,, , ,, grid, , , ,
Point15,xy, , ,in, deg, , ,, , ,, grid, , , ,
Point16,xy, , ,in, deg, , ,, , ,, grid, , , ,
Point17,xy, , ,in, deg, , ,, , ,, grid, , , ,
Point18,xy, , ,in, deg, , ,, , ,, grid, , , ,
Point19,xy, , ,in, deg, , ,, , ,, grid, , , ,
Point20,xy, , ,in, deg, , ,, , ,, grid, , , ,
Point21,xy, , ,in, deg, , ,, , ,, grid, , , ,
Point22,xy, , ,in, deg, , ,, , ,, grid, , , ,
Point23,xy, , ,in, deg, , ,, , ,, grid, , , ,
Point24,xy, , ,in, deg, , ,, , ,, grid, , , ,
Point25,xy, , ,in, deg, , ,, , ,, grid, , , ,
Point26,xy, , ,in, deg, , ,, , ,, grid, , , ,
Point27,xy, , ,in, deg, , ,, , ,, grid, , , ,
Point28,xy, , ,in, deg, , ,, , ,, grid, , , ,
Point29,xy, , ,in, deg, , ,, , ,, grid, , , ,
Point30,xy, , ,in, deg, , ,, , ,, grid, , , ,
Projection Setup,,,,,,,,,,
Map Feature = MF ; Map Comment = MC These follow if they exist
Track File = TF These follow if they exist
Moving Map Parameters = MM? These follow if they exist
MM0,Yes
MMPNUM,4
MMPXY,1,0,0
MMPXY,2,3308,0
MMPXY,3,3308,4676
MMPXY,4,0,4676
MMPLL,1, 19.806792, 39.847206
MMPLL,2, 20.955238, 39.314792
MMPLL,3, 20.805360, 38.801188
MMPLL,4, 19.656914, 39.333602
MM1B,29.801644
MOP,Map Open Position,0,0
IWH,Map Image Width/Height,3308,4676
