OziExplorer Map Data File Version 2.1
SCHIRMECK TOP25 vue au 50000eme
ChampsDuFeu.bmp
1 TIFF scale factor
WGS 84,WGS 84, 0.0000, 0.0000,WGS 84
Reserved 1
Reserved 2
Magnetic Variation,,,E
Map Projection,Latitude/Longitude,PolyCal,No,AutoCalOnly,No,BSBUseWPX,Yes
Point01,xy, 0, 0,in, deg, 48, 29.90130723,N, 7, 12.55415035,E, grid, , , ,N
Point02,xy, 2000, 0,in, deg, 48, 29.56255040,N, 7, 20.65370343,E, grid, , , ,N
Point03,xy, 2000, 2000,in, deg, 48, 24.17936384,N, 7, 20.13797711,E, grid, , , ,N
Point04,xy, 0, 2000,in, deg, 48, 24.51756066,N, 7, 12.05225636,E, grid, , , ,N
Point05,xy, , ,in, deg, , ,N, , ,E, grid, , , ,N
Point06,xy, , ,in, deg, , ,N, , ,E, grid, , , ,N
Point07,xy, , ,in, deg, , ,N, , ,E, grid, , , ,N
Point08,xy, , ,in, deg, , ,N, , ,E, grid, , , ,N
Point09,xy, , ,in, deg, , ,N, , ,E, grid, , , ,N
Point10,xy, , ,in, deg, , ,N, , ,E, grid, , , ,N
Point11,xy, , ,in, deg, , ,N, , ,E, grid, , , ,N
Point12,xy, , ,in, deg, , ,N, , ,E, grid, , , ,N
Point13,xy, , ,in, deg, , ,N, , ,E, grid, , , ,N
Point14,xy, , ,in, deg, , ,N, , ,E, grid, , , ,N
Point15,xy, , ,in, deg, , ,N, , ,E, grid, , , ,N
Point16,xy, , ,in, deg, , ,N, , ,E, grid, , , ,N
Point17,xy, , ,in, deg, , ,N, , ,E, grid, , , ,N
Point18,xy, , ,in, deg, , ,N, , ,E, grid, , , ,N
Point19,xy, , ,in, deg, , ,N, , ,E, grid, , , ,N
Point20,xy, , ,in, deg, , ,N, , ,E, grid, , , ,N
Point21,xy, , ,in, deg, , ,N, , ,E, grid, , , ,N
Point22,xy, , ,in, deg, , ,N, , ,E, grid, , , ,N
Point23,xy, , ,in, deg, , ,N, , ,E, grid, , , ,N
Point24,xy, , ,in, deg, , ,N, , ,E, grid, , , ,N
Point25,xy, , ,in, deg, , ,N, , ,E, grid, , , ,N
Point26,xy, , ,in, deg, , ,N, , ,E, grid, , , ,N
Point27,xy, , ,in, deg, , ,N, , ,E, grid, , , ,N
Point28,xy, , ,in, deg, , ,N, , ,E, grid, , , ,N
Point29,xy, , ,in, deg, , ,N, , ,E, grid, , , ,N
Point30,xy, , ,in, deg, , ,N, , ,E, grid, , , ,N
Projection Setup, 45.000000000, 5.000000000, 0.999600000, 0.00, 0.00, 49.000000000, 45.000000000,,,
Map Feature = MF ; Map Comment = MC These follow if they exist
Track File = TF These follow if they exist
Moving Map Parameters = MM? These follow if they exist_nMM0,Yes
MMPNUM,4
MMPXY,1,0,0
MMPXY,2, 2000,0
MMPXY,3, 2000, 2000
MMPXY,4,0, 2000
MMPLL,1, 7.20923584, 48.49835512
MMPLL,2, 7.34422839, 48.49270917
MMPLL,3, 7.33563295, 48.40298940
MMPLL,4, 7.20087094, 48.40862601
MM1B,5.004373
MOP,Map Open Position,0,0
IWH,Map Image Width/Height, 2000, 4000
