OziExplorer Map Data File Version 2.2
Argelia 500k-24.PNG
Argelia 500k-24.PNG
1 ,Map Code,
Pulkovo 1942 (1),, 0.0000, 0.0000,WGS 84
Reserved 1
Reserved 2
Magnetic Variation,,,E
Map Projection,Latitude/Longitude,PolyCal,Yes,AutoCalOnly,No,BSBUseWPX,No
Point01,xy, 87, 71,in, deg, 22, 0.0000,N, 3, 0.0000,E, grid, , , ,
Point02,xy, 2159, 73,in, deg, 22, 0.0000,N, 4, 30.0000,E, grid, , , ,
Point03,xy, 4233, 56,in, deg, 22, 0.0000,N, 6, 0.0000,E, grid, , , ,
Point04,xy, 82, 1550,in, deg, 21, 0.0000,N, 3, 0.0000,E, grid, , , ,
Point05,xy, 2167, 1553,in, deg, 21, 0.0000,N, 4, 30.0000,E, grid, , , ,
Point06,xy, 4253, 1537,in, deg, 21, 0.0000,N, 6, 0.0000,E, grid, , , ,
Point07,xy, 77, 3030,in, deg, 20, 0.0000,N, 3, 0.0000,E, grid, , , ,
Point08,xy, 2176, 3033,in, deg, 20, 0.0000,N, 4, 30.0000,E, grid, , , ,
Point09,xy, 4275, 3020,in, deg, 20, 0.0000,N, 6, 0.0000,E, grid, , , ,
Point10,xy, , ,in, deg, , ,, , ,, grid, , , ,
Point11,xy, , ,in, deg, , ,, , ,, grid, , , ,
Point12,xy, , ,in, deg, , ,, , ,, grid, , , ,
Point13,xy, , ,in, deg, , ,, , ,, grid, , , ,
Point14,xy, , ,in, deg, , ,, , ,, grid, , , ,
Point15,xy, , ,in, deg, , ,, , ,, grid, , , ,
Point16,xy, , ,in, deg, , ,, , ,, grid, , , ,
Point17,xy, , ,in, deg, , ,, , ,, grid, , , ,
Point18,xy, , ,in, deg, , ,, , ,, grid, , , ,
Point19,xy, , ,in, deg, , ,, , ,, grid, , , ,
Point20,xy, , ,in, deg, , ,, , ,, grid, , , ,
Point21,xy, , ,in, deg, , ,, , ,, grid, , , ,
Point22,xy, , ,in, deg, , ,, , ,, grid, , , ,
Point23,xy, , ,in, deg, , ,, , ,, grid, , , ,
Point24,xy, , ,in, deg, , ,, , ,, grid, , , ,
Point25,xy, , ,in, deg, , ,, , ,, grid, , , ,
Point26,xy, , ,in, deg, , ,, , ,, grid, , , ,
Point27,xy, , ,in, deg, , ,, , ,, grid, , , ,
Point28,xy, , ,in, deg, , ,, , ,, grid, , , ,
Point29,xy, , ,in, deg, , ,, , ,, grid, , , ,
Point30,xy, , ,in, deg, , ,, , ,, grid, , , ,
Projection Setup,,,,,,,,,,
Map Feature = MF ; Map Comment = MC These follow if they exist
Track File = TF These follow if they exist
Moving Map Parameters = MM? These follow if they exist
MM0,Yes
MMPNUM,4
MMPXY,1,0,0
MMPXY,2,4723,0
MMPXY,3,4774,3091
MMPXY,4,0,3107
MMPLL,1, 2.936790, 22.047894
MMPLL,2, 6.355199, 22.033437
MMPLL,3, 6.355495, 19.947816
MMPLL,4, 2.944865, 19.947483
MM1B,74.729703
MOP,Map Open Position,0,0
IWH,Map Image Width/Height,2500,1395
