OziExplorer Map Data File Version 2.2
Argelia 500k-23.PNG
Argelia 500k-23.PNG
1 ,Map Code,
Pulkovo 1942 (1),, 0.0000, 0.0000,WGS 84
Reserved 1
Reserved 2
Magnetic Variation,,,E
Map Projection,Latitude/Longitude,PolyCal,Yes,AutoCalOnly,No,BSBUseWPX,No
Point01,xy, 95, 60,in, deg, 22, 0.0000,N, 0, 0.0000,E, grid, , , ,
Point02,xy, 2168, 71,in, deg, 22, 0.0000,N, 1, 30.0000,E, grid, , , ,
Point03,xy, 4241, 61,in, deg, 22, 0.0000,N, 3, 0.0000,E, grid, , , ,
Point04,xy, 84, 1542,in, deg, 21, 0.0000,N, 0, 0.0000,E, grid, , , ,
Point05,xy, 2170, 1550,in, deg, 21, 0.0000,N, 1, 30.0000,E, grid, , , ,
Point06,xy, 4257, 1542,in, deg, 21, 0.0000,N, 3, 0.0000,E, grid, , , ,
Point07,xy, 72, 3024,in, deg, 20, 0.0000,N, 0, 0.0000,E, grid, , , ,
Point08,xy, 2174, 3030,in, deg, 20, 0.0000,N, 1, 30.0000,E, grid, , , ,
Point09,xy, 4273, 3024,in, deg, 20, 0.0000,N, 3, 0.0000,E, grid, , , ,
Point10,xy, , ,in, deg, , ,, , ,, grid, , , ,
Point11,xy, , ,in, deg, , ,, , ,, grid, , , ,
Point12,xy, , ,in, deg, , ,, , ,, grid, , , ,
Point13,xy, , ,in, deg, , ,, , ,, grid, , , ,
Point14,xy, , ,in, deg, , ,, , ,, grid, , , ,
Point15,xy, , ,in, deg, , ,, , ,, grid, , , ,
Point16,xy, , ,in, deg, , ,, , ,, grid, , , ,
Point17,xy, , ,in, deg, , ,, , ,, grid, , , ,
Point18,xy, , ,in, deg, , ,, , ,, grid, , , ,
Point19,xy, , ,in, deg, , ,, , ,, grid, , , ,
Point20,xy, , ,in, deg, , ,, , ,, grid, , , ,
Point21,xy, , ,in, deg, , ,, , ,, grid, , , ,
Point22,xy, , ,in, deg, , ,, , ,, grid, , , ,
Point23,xy, , ,in, deg, , ,, , ,, grid, , , ,
Point24,xy, , ,in, deg, , ,, , ,, grid, , , ,
Point25,xy, , ,in, deg, , ,, , ,, grid, , , ,
Point26,xy, , ,in, deg, , ,, , ,, grid, , , ,
Point27,xy, , ,in, deg, , ,, , ,, grid, , , ,
Point28,xy, , ,in, deg, , ,, , ,, grid, , , ,
Point29,xy, , ,in, deg, , ,, , ,, grid, , , ,
Point30,xy, , ,in, deg, , ,, , ,, grid, , , ,
Projection Setup,,,,,,,,,,
Map Feature = MF ; Map Comment = MC These follow if they exist
Track File = TF These follow if they exist
Moving Map Parameters = MM? These follow if they exist
MM0,Yes
MMPNUM,4
MMPXY,1,0,0
MMPXY,2,4867,0
MMPXY,3,4910,3094
MMPXY,4,0,3099
MMPLL,1, -0.069060, 22.040574
MMPLL,2, 3.453845, 22.037926
MMPLL,3, 3.454092, 19.948342
MMPLL,4, -0.051321, 19.948578
MM1B,74.748289
MOP,Map Open Position,0,0
IWH,Map Image Width/Height,2500,1395
