OziExplorer Map Data File Version 2.2
Argelia 500k-2.PNG
Argelia 500k-2.PNG
1 ,Map Code,
Pulkovo 1942 (1),, 0.0000, 0.0000,WGS 84
Reserved 1
Reserved 2
Magnetic Variation,,,E
Map Projection,Latitude/Longitude,PolyCal,Yes,AutoCalOnly,No,BSBUseWPX,No
Point01,xy, 105, 63,in, deg, 32, 0.0000,N, 0, 0.0000,E, grid, , , ,
Point02,xy, 1998, 77,in, deg, 32, 0.0000,N, 1, 30.0000,E, grid, , , ,
Point03,xy, 3895, 68,in, deg, 32, 0.0000,N, 3, 0.0000,E, grid, , , ,
Point04,xy, 86, 1546,in, deg, 31, 0.0000,N, 0, 0.0000,E, grid, , , ,
Point05,xy, 1999, 1561,in, deg, 31, 0.0000,N, 1, 30.0000,E, grid, , , ,
Point06,xy, 3915, 1552,in, deg, 31, 0.0000,N, 3, 0.0000,E, grid, , , ,
Point07,xy, 68, 3029,in, deg, 30, 0.0000,N, 0, 0.0000,E, grid, , , ,
Point08,xy, 2001, 3043,in, deg, 30, 0.0000,N, 1, 30.0000,E, grid, , , ,
Point09,xy, 3935, 3035,in, deg, 30, 0.0000,N, 3, 0.0000,E, grid, , , ,
Point10,xy, , ,in, deg, , ,, , ,, grid, , , ,
Point11,xy, , ,in, deg, , ,, , ,, grid, , , ,
Point12,xy, , ,in, deg, , ,, , ,, grid, , , ,
Point13,xy, , ,in, deg, , ,, , ,, grid, , , ,
Point14,xy, , ,in, deg, , ,, , ,, grid, , , ,
Point15,xy, , ,in, deg, , ,, , ,, grid, , , ,
Point16,xy, , ,in, deg, , ,, , ,, grid, , , ,
Point17,xy, , ,in, deg, , ,, , ,, grid, , , ,
Point18,xy, , ,in, deg, , ,, , ,, grid, , , ,
Point19,xy, , ,in, deg, , ,, , ,, grid, , , ,
Point20,xy, , ,in, deg, , ,, , ,, grid, , , ,
Point21,xy, , ,in, deg, , ,, , ,, grid, , , ,
Point22,xy, , ,in, deg, , ,, , ,, grid, , , ,
Point23,xy, , ,in, deg, , ,, , ,, grid, , , ,
Point24,xy, , ,in, deg, , ,, , ,, grid, , , ,
Point25,xy, , ,in, deg, , ,, , ,, grid, , , ,
Point26,xy, , ,in, deg, , ,, , ,, grid, , , ,
Point27,xy, , ,in, deg, , ,, , ,, grid, , , ,
Point28,xy, , ,in, deg, , ,, , ,, grid, , , ,
Point29,xy, , ,in, deg, , ,, , ,, grid, , , ,
Point30,xy, , ,in, deg, , ,, , ,, grid, , , ,
Projection Setup,,,,,,,,,,
Map Feature = MF ; Map Comment = MC These follow if they exist
Track File = TF These follow if they exist
Moving Map Parameters = MM? These follow if they exist
MM0,Yes
MMPNUM,4
MMPXY,1,0,0
MMPXY,2,4386,0
MMPXY,3,4439,3105
MMPXY,4,0,3103
MMPLL,1, -0.083645, 32.041413
MMPLL,2, 3.388941, 32.041776
MMPLL,3, 3.389066, 29.948718
MMPLL,4, -0.052258, 29.949272
MM1B,74.823512
MOP,Map Open Position,0,0
IWH,Map Image Width/Height,2500,1395
