OziExplorer Map Data File Version 2.2
Argelia 500k-13.PNG
Argelia 500k-13.PNG
1 ,Map Code,
Pulkovo 1942 (1),, 0.0000, 0.0000,WGS 84
Reserved 1
Reserved 2
Magnetic Variation,,,E
Map Projection,Latitude/Longitude,PolyCal,Yes,AutoCalOnly,No,BSBUseWPX,No
Point01,xy, 99, 58,in, deg, 26, 0.0000,N, 0, 0.0000,E, grid, , , ,
Point02,xy, 2109, 76,in, deg, 26, 0.0000,N, 1, 30.0000,E, grid, , , ,
Point03,xy, 4116, 70,in, deg, 26, 0.0000,N, 3, 0.0000,E, grid, , , ,
Point04,xy, 84, 1541,in, deg, 25, 0.0000,N, 0, 0.0000,E, grid, , , ,
Point05,xy, 2108, 1556,in, deg, 25, 0.0000,N, 1, 30.0000,E, grid, , , ,
Point06,xy, 4132, 1551,in, deg, 25, 0.0000,N, 3, 0.0000,E, grid, , , ,
Point07,xy, 68, 3024,in, deg, 24, 0.0000,N, 0, 0.0000,E, grid, , , ,
Point08,xy, 2108, 3039,in, deg, 24, 0.0000,N, 1, 30.0000,E, grid, , , ,
Point09,xy, 4148, 3032,in, deg, 24, 0.0000,N, 3, 0.0000,E, grid, , , ,
Point10,xy, , ,in, deg, , ,, , ,, grid, , , ,
Point11,xy, , ,in, deg, , ,, , ,, grid, , , ,
Point12,xy, , ,in, deg, , ,, , ,, grid, , , ,
Point13,xy, , ,in, deg, , ,, , ,, grid, , , ,
Point14,xy, , ,in, deg, , ,, , ,, grid, , , ,
Point15,xy, , ,in, deg, , ,, , ,, grid, , , ,
Point16,xy, , ,in, deg, , ,, , ,, grid, , , ,
Point17,xy, , ,in, deg, , ,, , ,, grid, , , ,
Point18,xy, , ,in, deg, , ,, , ,, grid, , , ,
Point19,xy, , ,in, deg, , ,, , ,, grid, , , ,
Point20,xy, , ,in, deg, , ,, , ,, grid, , , ,
Point21,xy, , ,in, deg, , ,, , ,, grid, , , ,
Point22,xy, , ,in, deg, , ,, , ,, grid, , , ,
Point23,xy, , ,in, deg, , ,, , ,, grid, , , ,
Point24,xy, , ,in, deg, , ,, , ,, grid, , , ,
Point25,xy, , ,in, deg, , ,, , ,, grid, , , ,
Point26,xy, , ,in, deg, , ,, , ,, grid, , , ,
Point27,xy, , ,in, deg, , ,, , ,, grid, , , ,
Point28,xy, , ,in, deg, , ,, , ,, grid, , , ,
Point29,xy, , ,in, deg, , ,, , ,, grid, , , ,
Point30,xy, , ,in, deg, , ,, , ,, grid, , , ,
Projection Setup,,,,,,,,,,
Map Feature = MF ; Map Comment = MC These follow if they exist
Track File = TF These follow if they exist
Moving Map Parameters = MM? These follow if they exist
MM0,Yes
MMPNUM,4
MMPXY,1,0,0
MMPXY,2,4585,1
MMPXY,3,4625,3106
MMPXY,4,0,3101
MMPLL,1, -0.074686, 26.038406
MMPLL,2, 3.350922, 26.043923
MMPLL,3, 3.350365, 23.946812
MMPLL,4, -0.049289, 23.947526
MM1B,74.648621
MOP,Map Open Position,0,0
IWH,Map Image Width/Height,2500,1395
