OziExplorer Map Data File Version 2.2
ZUWAYLAH__________2815-G33BN.PNG
F:\mapas\africa\Africa Este (rusos) 1-500.000\ZUWAYLAH__________2815-G33BN.PNG
1 ,Map Code,
Pulkovo 1942 (1),, 0.0000, 0.0000,WGS 84
Reserved 1
Reserved 2
Magnetic Variation,,,E
Map Projection,Latitude/Longitude,PolyCal,Yes,AutoCalOnly,No,BSBUseWPX,No
Point01,xy, 85, 64,in, deg, 28, 0.0000,N, 15, 0.0000,E, grid, , , ,
Point02,xy, 2060, 77,in, deg, 28, 0.0000,N, 16, 30.0000,E, grid, , , ,
Point03,xy, 4035, 65,in, deg, 28, 0.0000,N, 18, 0.0000,E, grid, , , ,
Point04,xy, 71, 1546,in, deg, 27, 0.0000,N, 15, 0.0000,E, grid, , , ,
Point05,xy, 2062, 1557,in, deg, 27, 0.0000,N, 16, 30.0000,E, grid, , , ,
Point06,xy, 4054, 1548,in, deg, 27, 0.0000,N, 18, 0.0000,E, grid, , , ,
Point07,xy, 56, 3027,in, deg, 26, 0.0000,N, 15, 0.0000,E, grid, , , ,
Point08,xy, 2066, 3039,in, deg, 26, 0.0000,N, 16, 30.0000,E, grid, , , ,
Point09,xy, 4073, 3034,in, deg, 26, 0.0000,N, 18, 0.0000,E, grid, , , ,
Point10,xy, , ,in, deg, , ,, , ,, grid, , , ,
Point11,xy, , ,in, deg, , ,, , ,, grid, , , ,
Point12,xy, , ,in, deg, , ,, , ,, grid, , , ,
Point13,xy, , ,in, deg, , ,, , ,, grid, , , ,
Point14,xy, , ,in, deg, , ,, , ,, grid, , , ,
Point15,xy, , ,in, deg, , ,, , ,, grid, , , ,
Point16,xy, , ,in, deg, , ,, , ,, grid, , , ,
Point17,xy, , ,in, deg, , ,, , ,, grid, , , ,
Point18,xy, , ,in, deg, , ,, , ,, grid, , , ,
Point19,xy, , ,in, deg, , ,, , ,, grid, , , ,
Point20,xy, , ,in, deg, , ,, , ,, grid, , , ,
Point21,xy, , ,in, deg, , ,, , ,, grid, , , ,
Point22,xy, , ,in, deg, , ,, , ,, grid, , , ,
Point23,xy, , ,in, deg, , ,, , ,, grid, , , ,
Point24,xy, , ,in, deg, , ,, , ,, grid, , , ,
Point25,xy, , ,in, deg, , ,, , ,, grid, , , ,
Point26,xy, , ,in, deg, , ,, , ,, grid, , , ,
Point27,xy, , ,in, deg, , ,, , ,, grid, , , ,
Point28,xy, , ,in, deg, , ,, , ,, grid, , , ,
Point29,xy, , ,in, deg, , ,, , ,, grid, , , ,
Point30,xy, , ,in, deg, , ,, , ,, grid, , , ,
Projection Setup,,,,,,,,,,
Map Feature = MF ; Map Comment = MC These follow if they exist
Track File = TF These follow if they exist
Moving Map Parameters = MM? These follow if they exist
MM0,Yes
MMPNUM,4
MMPXY,1,0,1
MMPXY,2,4511,0
MMPXY,3,4560,3097
MMPXY,4,0,3095
MMPLL,1, 14.934987, 28.042675
MMPLL,2, 18.362523, 28.040349
MMPLL,3, 18.362809, 25.953700
MMPLL,4, 14.958337, 25.953481
MM1B,74.598394
LL Grid Setup
LLGRID,No,No Grid,Yes,255,16711680,0,No Labels,0,16777215,7,1,Yes,x
Other Grid Setup
GRGRID,No,No Grid,Yes,255,16711680,No Labels,0,16777215,8,1,Yes,No,No,x
MOP,Map Open Position,0,0
IWH,Map Image Width/Height,2500,1250
