OziExplorer Map Data File Version 2.2
WARRI_____________0603-B31GN.PNG
F:\mapas\africa\Africa Oeste (rusos) 1-500.000\WARRI_____________0603-B31GN.PNG
1 ,Map Code,
Pulkovo 1942 (1),, 0.0000, 0.0000,WGS 84
Reserved 1
Reserved 2
Magnetic Variation,,,E
Map Projection,Latitude/Longitude,PolyCal,Yes,AutoCalOnly,No,BSBUseWPX,No
Point01,xy, 67, 67,in, deg, 6, 0.0000,N, 3, 0.0000,E, grid, , , ,
Point02,xy, 2293, 70,in, deg, 6, 0.0000,N, 4, 30.0000,E, grid, , , ,
Point03,xy, 4516, 67,in, deg, 6, 0.0000,N, 6, 0.0000,E, grid, , , ,
Point04,xy, 65, 1545,in, deg, 5, 0.0000,N, 3, 0.0000,E, grid, , , ,
Point05,xy, 2293, 1548,in, deg, 5, 0.0000,N, 4, 30.0000,E, grid, , , ,
Point06,xy, 4518, 1550,in, deg, 5, 0.0000,N, 6, 0.0000,E, grid, , , ,
Point07,xy, 63, 3022,in, deg, 4, 0.0000,N, 3, 0.0000,E, grid, , , ,
Point08,xy, 2292, 3028,in, deg, 4, 0.0000,N, 4, 30.0000,E, grid, , , ,
Point09,xy, 4521, 3032,in, deg, 4, 0.0000,N, 6, 0.0000,E, grid, , , ,
Point10,xy, , ,in, deg, , ,, , ,, grid, , , ,
Point11,xy, , ,in, deg, , ,, , ,, grid, , , ,
Point12,xy, , ,in, deg, , ,, , ,, grid, , , ,
Point13,xy, , ,in, deg, , ,, , ,, grid, , , ,
Point14,xy, , ,in, deg, , ,, , ,, grid, , , ,
Point15,xy, , ,in, deg, , ,, , ,, grid, , , ,
Point16,xy, , ,in, deg, , ,, , ,, grid, , , ,
Point17,xy, , ,in, deg, , ,, , ,, grid, , , ,
Point18,xy, , ,in, deg, , ,, , ,, grid, , , ,
Point19,xy, , ,in, deg, , ,, , ,, grid, , , ,
Point20,xy, , ,in, deg, , ,, , ,, grid, , , ,
Point21,xy, , ,in, deg, , ,, , ,, grid, , , ,
Point22,xy, , ,in, deg, , ,, , ,, grid, , , ,
Point23,xy, , ,in, deg, , ,, , ,, grid, , , ,
Point24,xy, , ,in, deg, , ,, , ,, grid, , , ,
Point25,xy, , ,in, deg, , ,, , ,, grid, , , ,
Point26,xy, , ,in, deg, , ,, , ,, grid, , , ,
Point27,xy, , ,in, deg, , ,, , ,, grid, , , ,
Point28,xy, , ,in, deg, , ,, , ,, grid, , , ,
Point29,xy, , ,in, deg, , ,, , ,, grid, , , ,
Point30,xy, , ,in, deg, , ,, , ,, grid, , , ,
Projection Setup,,,,,,,,,,
Map Feature = MF ; Map Comment = MC These follow if they exist
Track File = TF These follow if they exist
Moving Map Parameters = MM? These follow if they exist
MM0,Yes
MMPNUM,4
MMPXY,1,0,0
MMPXY,2,5002,0
MMPXY,3,5008,3102
MMPXY,4,0,3091
MMPLL,1, 2.954621, 6.045636
MMPLL,2, 6.328081, 6.045034
MMPLL,3, 6.328258, 3.952924
MMPLL,4, 2.957882, 3.953021
MM1B,74.458157
LL Grid Setup
LLGRID,No,No Grid,Yes,255,16711680,0,No Labels,0,16777215,7,1,Yes,x
Other Grid Setup
GRGRID,No,No Grid,Yes,255,16711680,No Labels,0,16777215,8,1,Yes,No,No,x
MOP,Map Open Position,0,0
IWH,Map Image Width/Height,100,100
