OziExplorer Map Data File Version 2.2
TUNIS_____________3809-J32GN.PNG
F:\mapas\africa\Africa Este (rusos) 1-500.000\TUNIS_____________3809-J32GN.PNG
1 ,Map Code,
Pulkovo 1942 (1),, 0.0000, 0.0000,WGS 84
Reserved 1
Reserved 2
Magnetic Variation,,,E
Map Projection,Latitude/Longitude,PolyCal,Yes,AutoCalOnly,No,BSBUseWPX,No
Point01,xy, 104, 77,in, deg, 38, 0.0000,N, 9, 0.0000,E, grid, , , ,
Point02,xy, 1866, 94,in, deg, 38, 0.0000,N, 10, 30.0000,E, grid, , , ,
Point03,xy, 3630, 78,in, deg, 38, 0.0000,N, 12, 0.0000,E, grid, , , ,
Point04,xy, 80, 1561,in, deg, 37, 0.0000,N, 9, 0.0000,E, grid, , , ,
Point05,xy, 1868, 1578,in, deg, 37, 0.0000,N, 10, 30.0000,E, grid, , , ,
Point06,xy, 3656, 1562,in, deg, 37, 0.0000,N, 12, 0.0000,E, grid, , , ,
Point07,xy, 63, 3046,in, deg, 36, 0.0000,N, 9, 0.0000,E, grid, , , ,
Point08,xy, 1871, 3059,in, deg, 36, 0.0000,N, 10, 30.0000,E, grid, , , ,
Point09,xy, 3683, 3045,in, deg, 36, 0.0000,N, 12, 0.0000,E, grid, , , ,
Point10,xy, , ,in, deg, , ,, , ,, grid, , , ,
Point11,xy, , ,in, deg, , ,, , ,, grid, , , ,
Point12,xy, , ,in, deg, , ,, , ,, grid, , , ,
Point13,xy, , ,in, deg, , ,, , ,, grid, , , ,
Point14,xy, , ,in, deg, , ,, , ,, grid, , , ,
Point15,xy, , ,in, deg, , ,, , ,, grid, , , ,
Point16,xy, , ,in, deg, , ,, , ,, grid, , , ,
Point17,xy, , ,in, deg, , ,, , ,, grid, , , ,
Point18,xy, , ,in, deg, , ,, , ,, grid, , , ,
Point19,xy, , ,in, deg, , ,, , ,, grid, , , ,
Point20,xy, , ,in, deg, , ,, , ,, grid, , , ,
Point21,xy, , ,in, deg, , ,, , ,, grid, , , ,
Point22,xy, , ,in, deg, , ,, , ,, grid, , , ,
Point23,xy, , ,in, deg, , ,, , ,, grid, , , ,
Point24,xy, , ,in, deg, , ,, , ,, grid, , , ,
Point25,xy, , ,in, deg, , ,, , ,, grid, , , ,
Point26,xy, , ,in, deg, , ,, , ,, grid, , , ,
Point27,xy, , ,in, deg, , ,, , ,, grid, , , ,
Point28,xy, , ,in, deg, , ,, , ,, grid, , , ,
Point29,xy, , ,in, deg, , ,, , ,, grid, , , ,
Point30,xy, , ,in, deg, , ,, , ,, grid, , , ,
Projection Setup,,,,,,,,,,
Map Feature = MF ; Map Comment = MC These follow if they exist
Track File = TF These follow if they exist
Moving Map Parameters = MM? These follow if they exist
MM0,Yes
MMPNUM,4
MMPXY,1,0,0
MMPXY,2,4209,0
MMPXY,3,4281,3128
MMPXY,4,0,3139
MMPLL,1, 8.910777, 38.050657
MMPLL,2, 12.492599, 38.045063
MMPLL,3, 12.492689, 35.935576
MMPLL,4, 8.949411, 35.936017
MM1B,74.743901
LL Grid Setup
LLGRID,No,No Grid,Yes,255,16711680,0,No Labels,0,16777215,7,1,Yes,x
Other Grid Setup
GRGRID,No,No Grid,Yes,255,16711680,No Labels,0,16777215,8,1,Yes,No,No,x
MOP,Map Open Position,0,0
IWH,Map Image Width/Height,2500,1250
