OziExplorer Map Data File Version 2.2
TIN KAR __________2003-E30BN.PNG
F:\mapas\africa\Africa Oeste (rusos) 1-500.000\TIN KAR __________2003-E30BN.PNG
1 ,Map Code,
Pulkovo 1942 (1),, 0.0000, 0.0000,WGS 84
Reserved 1
Reserved 2
Magnetic Variation,,,E
Map Projection,Latitude/Longitude,PolyCal,Yes,AutoCalOnly,No,BSBUseWPX,No
Point01,xy, 92, 82,in, deg, 20, 0.0000,N, 3, 0.0000,W, grid, , , ,
Point02,xy, 2197, 95,in, deg, 20, 0.0000,N, 1, 30.0000,W, grid, , , ,
Point03,xy, 4302, 89,in, deg, 20, 0.0000,N, 0, 0.0000,E, grid, , , ,
Point04,xy, 82, 1562,in, deg, 19, 0.0000,N, 3, 0.0000,W, grid, , , ,
Point05,xy, 2198, 1573,in, deg, 19, 0.0000,N, 1, 30.0000,W, grid, , , ,
Point06,xy, 4315, 1574,in, deg, 19, 0.0000,N, 0, 0.0000,E, grid, , , ,
Point07,xy, 72, 3042,in, deg, 18, 0.0000,N, 3, 0.0000,W, grid, , , ,
Point08,xy, 2201, 3055,in, deg, 18, 0.0000,N, 1, 30.0000,W, grid, , , ,
Point09,xy, 4328, 3053,in, deg, 18, 0.0000,N, 0, 0.0000,E, grid, , , ,
Point10,xy, , ,in, deg, , ,, , ,, grid, , , ,
Point11,xy, , ,in, deg, , ,, , ,, grid, , , ,
Point12,xy, , ,in, deg, , ,, , ,, grid, , , ,
Point13,xy, , ,in, deg, , ,, , ,, grid, , , ,
Point14,xy, , ,in, deg, , ,, , ,, grid, , , ,
Point15,xy, , ,in, deg, , ,, , ,, grid, , , ,
Point16,xy, , ,in, deg, , ,, , ,, grid, , , ,
Point17,xy, , ,in, deg, , ,, , ,, grid, , , ,
Point18,xy, , ,in, deg, , ,, , ,, grid, , , ,
Point19,xy, , ,in, deg, , ,, , ,, grid, , , ,
Point20,xy, , ,in, deg, , ,, , ,, grid, , , ,
Point21,xy, , ,in, deg, , ,, , ,, grid, , , ,
Point22,xy, , ,in, deg, , ,, , ,, grid, , , ,
Point23,xy, , ,in, deg, , ,, , ,, grid, , , ,
Point24,xy, , ,in, deg, , ,, , ,, grid, , , ,
Point25,xy, , ,in, deg, , ,, , ,, grid, , , ,
Point26,xy, , ,in, deg, , ,, , ,, grid, , , ,
Point27,xy, , ,in, deg, , ,, , ,, grid, , , ,
Point28,xy, , ,in, deg, , ,, , ,, grid, , , ,
Point29,xy, , ,in, deg, , ,, , ,, grid, , , ,
Point30,xy, , ,in, deg, , ,, , ,, grid, , , ,
Projection Setup,,,,,,,,,,
Map Feature = MF ; Map Comment = MC These follow if they exist
Track File = TF These follow if they exist
Moving Map Parameters = MM? These follow if they exist
MM0,Yes
MMPNUM,4
MMPXY,1,0,0
MMPXY,2,4818,3
MMPXY,3,4852,3143
MMPXY,4,0,3132
MMPLL,1, -3.065940, 20.054980
MMPLL,2, 0.368420, 20.056765
MMPLL,3, 0.368500, 17.937878
MMPLL,4, -3.050525, 17.938369
MM1B,74.448817
LL Grid Setup
LLGRID,No,No Grid,Yes,255,16711680,0,No Labels,0,16777215,7,1,Yes,x
Other Grid Setup
GRGRID,No,No Grid,Yes,255,16711680,No Labels,0,16777215,8,1,Yes,No,No,x
MOP,Map Open Position,0,0
IWH,Map Image Width/Height,100,100
