OziExplorer Map Data File Version 2.2
TIMIMOUN__________3000-H31WN.PNG
F:\mapas\africa\Africa Oeste (rusos) 1-500.000\TIMIMOUN__________3000-H31WN.PNG
1 ,Map Code,
Pulkovo 1942 (1),, 0.0000, 0.0000,WGS 84
Reserved 1
Reserved 2
Magnetic Variation,,,E
Map Projection,Latitude/Longitude,PolyCal,Yes,AutoCalOnly,No,BSBUseWPX,No
Point01,xy, 79, 77,in, deg, 30, 0.0000,N, 0, 0.0000,E, grid, , , ,
Point02,xy, 2012, 83,in, deg, 30, 0.0000,N, 1, 30.0000,E, grid, , , ,
Point03,xy, 3944, 68,in, deg, 30, 0.0000,N, 3, 0.0000,E, grid, , , ,
Point04,xy, 67, 1559,in, deg, 29, 0.0000,N, 0, 0.0000,E, grid, , , ,
Point05,xy, 2019, 1565,in, deg, 29, 0.0000,N, 1, 30.0000,E, grid, , , ,
Point06,xy, 3967, 1551,in, deg, 29, 0.0000,N, 3, 0.0000,E, grid, , , ,
Point07,xy, 55, 3040,in, deg, 28, 0.0000,N, 0, 0.0000,E, grid, , , ,
Point08,xy, 2025, 3047,in, deg, 28, 0.0000,N, 1, 30.0000,E, grid, , , ,
Point09,xy, 3990, 3034,in, deg, 28, 0.0000,N, 3, 0.0000,E, grid, , , ,
Point10,xy, , ,in, deg, , ,, , ,, grid, , , ,
Point11,xy, , ,in, deg, , ,, , ,, grid, , , ,
Point12,xy, , ,in, deg, , ,, , ,, grid, , , ,
Point13,xy, , ,in, deg, , ,, , ,, grid, , , ,
Point14,xy, , ,in, deg, , ,, , ,, grid, , , ,
Point15,xy, , ,in, deg, , ,, , ,, grid, , , ,
Point16,xy, , ,in, deg, , ,, , ,, grid, , , ,
Point17,xy, , ,in, deg, , ,, , ,, grid, , , ,
Point18,xy, , ,in, deg, , ,, , ,, grid, , , ,
Point19,xy, , ,in, deg, , ,, , ,, grid, , , ,
Point20,xy, , ,in, deg, , ,, , ,, grid, , , ,
Point21,xy, , ,in, deg, , ,, , ,, grid, , , ,
Point22,xy, , ,in, deg, , ,, , ,, grid, , , ,
Point23,xy, , ,in, deg, , ,, , ,, grid, , , ,
Point24,xy, , ,in, deg, , ,, , ,, grid, , , ,
Point25,xy, , ,in, deg, , ,, , ,, grid, , , ,
Point26,xy, , ,in, deg, , ,, , ,, grid, , , ,
Point27,xy, , ,in, deg, , ,, , ,, grid, , , ,
Point28,xy, , ,in, deg, , ,, , ,, grid, , , ,
Point29,xy, , ,in, deg, , ,, , ,, grid, , , ,
Point30,xy, , ,in, deg, , ,, , ,, grid, , , ,
Projection Setup,,,,,,,,,,
Map Feature = MF ; Map Comment = MC These follow if they exist
Track File = TF These follow if they exist
Moving Map Parameters = MM? These follow if they exist
MM0,Yes
MMPNUM,4
MMPXY,1,0,0
MMPXY,2,4455,0
MMPXY,3,4514,3107
MMPXY,4,0,3119
MMPLL,1, -0.061392, 30.051651
MMPLL,2, 3.398617, 30.040910
MMPLL,3, 3.398907, 27.945990
MMPLL,4, -0.041561, 27.946350
MM1B,74.687194
LL Grid Setup
LLGRID,No,No Grid,Yes,255,16711680,0,No Labels,0,16777215,7,1,Yes,x
Other Grid Setup
GRGRID,No,No Grid,Yes,255,16711680,No Labels,0,16777215,8,1,Yes,No,No,x
MOP,Map Open Position,0,0
IWH,Map Image Width/Height,100,100
