OziExplorer Map Data File Version 2.2
SFAX______________3609-I32BN.PNG
F:\mapas\africa\Africa Este (rusos) 1-500.000\SFAX______________3609-I32BN.PNG
1 ,Map Code,
Pulkovo 1942 (1),, 0.0000, 0.0000,WGS 84
Reserved 1
Reserved 2
Magnetic Variation,,,E
Map Projection,Latitude/Longitude,PolyCal,Yes,AutoCalOnly,No,BSBUseWPX,No
Point01,xy, 104, 65,in, deg, 36, 0.0000,N, 9, 0.0000,E, grid, , , ,
Point02,xy, 1909, 78,in, deg, 36, 0.0000,N, 10, 30.0000,E, grid, , , ,
Point03,xy, 3716, 62,in, deg, 36, 0.0000,N, 12, 0.0000,E, grid, , , ,
Point04,xy, 85, 1550,in, deg, 35, 0.0000,N, 9, 0.0000,E, grid, , , ,
Point05,xy, 1911, 1562,in, deg, 35, 0.0000,N, 10, 30.0000,E, grid, , , ,
Point06,xy, 3742, 1550,in, deg, 35, 0.0000,N, 12, 0.0000,E, grid, , , ,
Point07,xy, 68, 3034,in, deg, 34, 0.0000,N, 9, 0.0000,E, grid, , , ,
Point08,xy, 1915, 3048,in, deg, 34, 0.0000,N, 10, 30.0000,E, grid, , , ,
Point09,xy, 3768, 3037,in, deg, 34, 0.0000,N, 12, 0.0000,E, grid, , , ,
Point10,xy, , ,in, deg, , ,, , ,, grid, , , ,
Point11,xy, , ,in, deg, , ,, , ,, grid, , , ,
Point12,xy, , ,in, deg, , ,, , ,, grid, , , ,
Point13,xy, , ,in, deg, , ,, , ,, grid, , , ,
Point14,xy, , ,in, deg, , ,, , ,, grid, , , ,
Point15,xy, , ,in, deg, , ,, , ,, grid, , , ,
Point16,xy, , ,in, deg, , ,, , ,, grid, , , ,
Point17,xy, , ,in, deg, , ,, , ,, grid, , , ,
Point18,xy, , ,in, deg, , ,, , ,, grid, , , ,
Point19,xy, , ,in, deg, , ,, , ,, grid, , , ,
Point20,xy, , ,in, deg, , ,, , ,, grid, , , ,
Point21,xy, , ,in, deg, , ,, , ,, grid, , , ,
Point22,xy, , ,in, deg, , ,, , ,, grid, , , ,
Point23,xy, , ,in, deg, , ,, , ,, grid, , , ,
Point24,xy, , ,in, deg, , ,, , ,, grid, , , ,
Point25,xy, , ,in, deg, , ,, , ,, grid, , , ,
Point26,xy, , ,in, deg, , ,, , ,, grid, , , ,
Point27,xy, , ,in, deg, , ,, , ,, grid, , , ,
Point28,xy, , ,in, deg, , ,, , ,, grid, , , ,
Point29,xy, , ,in, deg, , ,, , ,, grid, , , ,
Point30,xy, , ,in, deg, , ,, , ,, grid, , , ,
Projection Setup,,,,,,,,,,
Map Feature = MF ; Map Comment = MC These follow if they exist
Track File = TF These follow if they exist
Moving Map Parameters = MM? These follow if they exist
MM0,Yes
MMPNUM,4
MMPXY,1,0,0
MMPXY,2,4173,0
MMPXY,3,4239,3111
MMPXY,4,0,3113
MMPLL,1, 8.912477, 36.043142
MMPLL,2, 12.378960, 36.036787
MMPLL,3, 12.379504, 33.945415
MMPLL,4, 8.945879, 33.945977
MM1B,75.004445
LL Grid Setup
LLGRID,No,No Grid,Yes,255,16711680,0,No Labels,0,16777215,7,1,Yes,x
Other Grid Setup
GRGRID,No,No Grid,Yes,255,16711680,No Labels,0,16777215,8,1,Yes,No,No,x
MOP,Map Open Position,0,0
IWH,Map Image Width/Height,2500,1250
