OziExplorer Map Data File Version 2.2
SELIMA OASIS______2227-F35GN.PNG
F:\mapas\africa\Africa Este (rusos) 1-500.000\SELIMA OASIS______2227-F35GN.PNG
1 ,Map Code,
Pulkovo 1942 (1),, 0.0000, 0.0000,WGS 84
Reserved 1
Reserved 2
Magnetic Variation,,,E
Map Projection,Latitude/Longitude,PolyCal,Yes,AutoCalOnly,No,BSBUseWPX,No
Point01,xy, 94, 61,in, deg, 22, 0.0000,N, 27, 0.0000,E, grid, , , ,
Point02,xy, 2170, 80,in, deg, 22, 0.0000,N, 28, 30.0000,E, grid, , , ,
Point03,xy, 4249, 78,in, deg, 22, 0.0000,N, 30, 0.0000,E, grid, , , ,
Point04,xy, 78, 1542,in, deg, 21, 0.0000,N, 27, 0.0000,E, grid, , , ,
Point05,xy, 2168, 1560,in, deg, 21, 0.0000,N, 28, 30.0000,E, grid, , , ,
Point06,xy, 4260, 1560,in, deg, 21, 0.0000,N, 30, 0.0000,E, grid, , , ,
Point07,xy, 63, 3022,in, deg, 20, 0.0000,N, 27, 0.0000,E, grid, , , ,
Point08,xy, 2166, 3041,in, deg, 20, 0.0000,N, 28, 30.0000,E, grid, , , ,
Point09,xy, 4269, 3043,in, deg, 20, 0.0000,N, 30, 0.0000,E, grid, , , ,
Point10,xy, , ,in, deg, , ,, , ,, grid, , , ,
Point11,xy, , ,in, deg, , ,, , ,, grid, , , ,
Point12,xy, , ,in, deg, , ,, , ,, grid, , , ,
Point13,xy, , ,in, deg, , ,, , ,, grid, , , ,
Point14,xy, , ,in, deg, , ,, , ,, grid, , , ,
Point15,xy, , ,in, deg, , ,, , ,, grid, , , ,
Point16,xy, , ,in, deg, , ,, , ,, grid, , , ,
Point17,xy, , ,in, deg, , ,, , ,, grid, , , ,
Point18,xy, , ,in, deg, , ,, , ,, grid, , , ,
Point19,xy, , ,in, deg, , ,, , ,, grid, , , ,
Point20,xy, , ,in, deg, , ,, , ,, grid, , , ,
Point21,xy, , ,in, deg, , ,, , ,, grid, , , ,
Point22,xy, , ,in, deg, , ,, , ,, grid, , , ,
Point23,xy, , ,in, deg, , ,, , ,, grid, , , ,
Point24,xy, , ,in, deg, , ,, , ,, grid, , , ,
Point25,xy, , ,in, deg, , ,, , ,, grid, , , ,
Point26,xy, , ,in, deg, , ,, , ,, grid, , , ,
Point27,xy, , ,in, deg, , ,, , ,, grid, , , ,
Point28,xy, , ,in, deg, , ,, , ,, grid, , , ,
Point29,xy, , ,in, deg, , ,, , ,, grid, , , ,
Point30,xy, , ,in, deg, , ,, , ,, grid, , , ,
Projection Setup,,,,,,,,,,
Map Feature = MF ; Map Comment = MC These follow if they exist
Track File = TF These follow if they exist
Moving Map Parameters = MM? These follow if they exist
MM0,Yes
MMPNUM,4
MMPXY,1,0,0
MMPXY,2,4712,1
MMPXY,3,4739,3125
MMPXY,4,0,3105
MMPLL,1, 26.931967, 22.040757
MMPLL,2, 30.334425, 22.050238
MMPLL,3, 30.334005, 19.942833
MMPLL,4, 26.955660, 19.943278
MM1B,74.503310
LL Grid Setup
LLGRID,No,No Grid,Yes,255,16711680,0,No Labels,0,16777215,7,1,Yes,x
Other Grid Setup
GRGRID,No,No Grid,Yes,255,16711680,No Labels,0,16777215,8,1,Yes,No,No,x
MOP,Map Open Position,0,0
IWH,Map Image Width/Height,2500,1250
