OziExplorer Map Data File Version 2.2
SAO TOME__________0206-A32WN.PNG
F:\mapas\africa\Africa Oeste (rusos) 1-500.000\SAO TOME__________0206-A32WN.PNG
1 ,Map Code,
Pulkovo 1942 (1),, 0.0000, 0.0000,WGS 84
Reserved 1
Reserved 2
Magnetic Variation,,,E
Map Projection,Latitude/Longitude,PolyCal,Yes,AutoCalOnly,No,BSBUseWPX,No
Point01,xy, 73, 68,in, deg, 2, 0.0000,N, 6, 0.0000,E, grid, , , ,
Point02,xy, 2314, 69,in, deg, 2, 0.0000,N, 7, 30.0000,E, grid, , , ,
Point03,xy, 4554, 69,in, deg, 2, 0.0000,N, 9, 0.0000,E, grid, , , ,
Point04,xy, 71, 1548,in, deg, 1, 0.0000,N, 6, 0.0000,E, grid, , , ,
Point05,xy, 2309, 1548,in, deg, 1, 0.0000,N, 7, 30.0000,E, grid, , , ,
Point06,xy, 4551, 1546,in, deg, 1, 0.0000,N, 9, 0.0000,E, grid, , , ,
Point07,xy, 68, 3028,in, deg, 0, 0.0000,N, 6, 0.0000,E, grid, , , ,
Point08,xy, 2307, 3027,in, deg, 0, 0.0000,N, 7, 30.0000,E, grid, , , ,
Point09,xy, 4549, 3023,in, deg, 0, 0.0000,N, 9, 0.0000,E, grid, , , ,
Point10,xy, , ,in, deg, , ,, , ,, grid, , , ,
Point11,xy, , ,in, deg, , ,, , ,, grid, , , ,
Point12,xy, , ,in, deg, , ,, , ,, grid, , , ,
Point13,xy, , ,in, deg, , ,, , ,, grid, , , ,
Point14,xy, , ,in, deg, , ,, , ,, grid, , , ,
Point15,xy, , ,in, deg, , ,, , ,, grid, , , ,
Point16,xy, , ,in, deg, , ,, , ,, grid, , , ,
Point17,xy, , ,in, deg, , ,, , ,, grid, , , ,
Point18,xy, , ,in, deg, , ,, , ,, grid, , , ,
Point19,xy, , ,in, deg, , ,, , ,, grid, , , ,
Point20,xy, , ,in, deg, , ,, , ,, grid, , , ,
Point21,xy, , ,in, deg, , ,, , ,, grid, , , ,
Point22,xy, , ,in, deg, , ,, , ,, grid, , , ,
Point23,xy, , ,in, deg, , ,, , ,, grid, , , ,
Point24,xy, , ,in, deg, , ,, , ,, grid, , , ,
Point25,xy, , ,in, deg, , ,, , ,, grid, , , ,
Point26,xy, , ,in, deg, , ,, , ,, grid, , , ,
Point27,xy, , ,in, deg, , ,, , ,, grid, , , ,
Point28,xy, , ,in, deg, , ,, , ,, grid, , , ,
Point29,xy, , ,in, deg, , ,, , ,, grid, , , ,
Point30,xy, , ,in, deg, , ,, , ,, grid, , , ,
Projection Setup,,,,,,,,,,
Map Feature = MF ; Map Comment = MC These follow if they exist
Track File = TF These follow if they exist
Moving Map Parameters = MM? These follow if they exist
MM0,Yes
MMPNUM,4
MMPXY,1,0,0
MMPXY,2,5051,0
MMPXY,3,5045,3089
MMPXY,4,0,3096
MMPLL,1, 5.950514, 2.045770
MMPLL,2, 9.332091, 2.046351
MMPLL,3, 9.332042, -0.045285
MMPLL,4, 5.954485, -0.045817
MM1B,74.418337
LL Grid Setup
LLGRID,No,No Grid,Yes,255,16711680,0,No Labels,0,16777215,7,1,Yes,x
Other Grid Setup
GRGRID,No,No Grid,Yes,255,16711680,No Labels,0,16777215,8,1,Yes,No,No,x
MOP,Map Open Position,0,0
IWH,Map Image Width/Height,100,100
