OziExplorer Map Data File Version 2.2
SANTA CRUZ DE ____3018-H28WN.PNG
F:\mapas\africa\Africa Oeste (rusos) 1-500.000\SANTA CRUZ DE ____3018-H28WN.PNG
1 ,Map Code,
Pulkovo 1942 (1),, 0.0000, 0.0000,WGS 84
Reserved 1
Reserved 2
Magnetic Variation,,,E
Map Projection,Latitude/Longitude,PolyCal,Yes,AutoCalOnly,No,BSBUseWPX,No
Point01,xy, 94, 65,in, deg, 30, 0.0000,N, 18, 0.0000,W, grid, , , ,
Point02,xy, 2034, 77,in, deg, 30, 0.0000,N, 16, 30.0000,W, grid, , , ,
Point03,xy, 3970, 63,in, deg, 30, 0.0000,N, 15, 0.0000,W, grid, , , ,
Point04,xy, 83, 1546,in, deg, 29, 0.0000,N, 18, 0.0000,W, grid, , , ,
Point05,xy, 2039, 1557,in, deg, 29, 0.0000,N, 16, 30.0000,W, grid, , , ,
Point06,xy, 3993, 1543,in, deg, 29, 0.0000,N, 15, 0.0000,W, grid, , , ,
Point07,xy, 70, 3030,in, deg, 28, 0.0000,N, 18, 0.0000,W, grid, , , ,
Point08,xy, 2045, 3039,in, deg, 28, 0.0000,N, 16, 30.0000,W, grid, , , ,
Point09,xy, 4019, 3024,in, deg, 28, 0.0000,N, 15, 0.0000,W, grid, , , ,
Point10,xy, , ,in, deg, , ,, , ,, grid, , , ,
Point11,xy, , ,in, deg, , ,, , ,, grid, , , ,
Point12,xy, , ,in, deg, , ,, , ,, grid, , , ,
Point13,xy, , ,in, deg, , ,, , ,, grid, , , ,
Point14,xy, , ,in, deg, , ,, , ,, grid, , , ,
Point15,xy, , ,in, deg, , ,, , ,, grid, , , ,
Point16,xy, , ,in, deg, , ,, , ,, grid, , , ,
Point17,xy, , ,in, deg, , ,, , ,, grid, , , ,
Point18,xy, , ,in, deg, , ,, , ,, grid, , , ,
Point19,xy, , ,in, deg, , ,, , ,, grid, , , ,
Point20,xy, , ,in, deg, , ,, , ,, grid, , , ,
Point21,xy, , ,in, deg, , ,, , ,, grid, , , ,
Point22,xy, , ,in, deg, , ,, , ,, grid, , , ,
Point23,xy, , ,in, deg, , ,, , ,, grid, , , ,
Point24,xy, , ,in, deg, , ,, , ,, grid, , , ,
Point25,xy, , ,in, deg, , ,, , ,, grid, , , ,
Point26,xy, , ,in, deg, , ,, , ,, grid, , , ,
Point27,xy, , ,in, deg, , ,, , ,, grid, , , ,
Point28,xy, , ,in, deg, , ,, , ,, grid, , , ,
Point29,xy, , ,in, deg, , ,, , ,, grid, , , ,
Point30,xy, , ,in, deg, , ,, , ,, grid, , , ,
Projection Setup,,,,,,,,,,
Map Feature = MF ; Map Comment = MC These follow if they exist
Track File = TF These follow if they exist
Moving Map Parameters = MM? These follow if they exist
MM0,Yes
MMPNUM,4
MMPXY,1,0,0
MMPXY,2,4504,0
MMPXY,3,4565,3098
MMPXY,4,0,3111
MMPLL,1, -18.073679, 30.043087
MMPLL,2, -14.585094, 30.037368
MMPLL,3, -14.585351, 27.944236
MMPLL,4, -18.052760, 27.944673
MM1B,74.530440
LL Grid Setup
LLGRID,No,No Grid,Yes,255,16711680,0,No Labels,0,16777215,7,1,Yes,x
Other Grid Setup
GRGRID,No,No Grid,Yes,255,16711680,No Labels,0,16777215,8,1,Yes,No,No,x
MOP,Map Open Position,0,0
IWH,Map Image Width/Height,100,100
