OziExplorer Map Data File Version 2.2
SAFI______________3412-I29WN.PNG
F:\mapas\africa\Africa Oeste (rusos) 1-500.000\SAFI______________3412-I29WN.PNG
1 ,Map Code,
Pulkovo 1942 (1),, 0.0000, 0.0000,WGS 84
Reserved 1
Reserved 2
Magnetic Variation,,,E
Map Projection,Latitude/Longitude,PolyCal,Yes,AutoCalOnly,No,BSBUseWPX,No
Point01,xy, 121, 86,in, deg, 34, 0.0000,N, 12, 0.0000,W, grid, , , ,
Point02,xy, 1971, 103,in, deg, 34, 0.0000,N, 10, 30.0000,W, grid, , , ,
Point03,xy, 3820, 92,in, deg, 34, 0.0000,N, 9, 0.0000,W, grid, , , ,
Point04,xy, 101, 1570,in, deg, 33, 0.0000,N, 12, 0.0000,W, grid, , , ,
Point05,xy, 1969, 1586,in, deg, 33, 0.0000,N, 10, 30.0000,W, grid, , , ,
Point06,xy, 3840, 1576,in, deg, 33, 0.0000,N, 9, 0.0000,W, grid, , , ,
Point07,xy, 79, 3060,in, deg, 32, 0.0000,N, 12, 0.0000,W, grid, , , ,
Point08,xy, 1970, 3074,in, deg, 32, 0.0000,N, 10, 30.0000,W, grid, , , ,
Point09,xy, 3863, 3067,in, deg, 32, 0.0000,N, 9, 0.0000,W, grid, , , ,
Point10,xy, , ,in, deg, , ,, , ,, grid, , , ,
Point11,xy, , ,in, deg, , ,, , ,, grid, , , ,
Point12,xy, , ,in, deg, , ,, , ,, grid, , , ,
Point13,xy, , ,in, deg, , ,, , ,, grid, , , ,
Point14,xy, , ,in, deg, , ,, , ,, grid, , , ,
Point15,xy, , ,in, deg, , ,, , ,, grid, , , ,
Point16,xy, , ,in, deg, , ,, , ,, grid, , , ,
Point17,xy, , ,in, deg, , ,, , ,, grid, , , ,
Point18,xy, , ,in, deg, , ,, , ,, grid, , , ,
Point19,xy, , ,in, deg, , ,, , ,, grid, , , ,
Point20,xy, , ,in, deg, , ,, , ,, grid, , , ,
Point21,xy, , ,in, deg, , ,, , ,, grid, , , ,
Point22,xy, , ,in, deg, , ,, , ,, grid, , , ,
Point23,xy, , ,in, deg, , ,, , ,, grid, , , ,
Point24,xy, , ,in, deg, , ,, , ,, grid, , , ,
Point25,xy, , ,in, deg, , ,, , ,, grid, , , ,
Point26,xy, , ,in, deg, , ,, , ,, grid, , , ,
Point27,xy, , ,in, deg, , ,, , ,, grid, , , ,
Point28,xy, , ,in, deg, , ,, , ,, grid, , , ,
Point29,xy, , ,in, deg, , ,, , ,, grid, , , ,
Point30,xy, , ,in, deg, , ,, , ,, grid, , , ,
Projection Setup,,,,,,,,,,
Map Feature = MF ; Map Comment = MC These follow if they exist
Track File = TF These follow if they exist
Moving Map Parameters = MM? These follow if they exist
MM0,Yes
MMPNUM,4
MMPXY,1,1,0
MMPXY,2,4278,1
MMPXY,3,4335,3156
MMPXY,4,0,3153
MMPLL,1, -12.099188, 34.057209
MMPLL,2, -8.627570, 34.057511
MMPLL,3, -8.627009, 31.935781
MMPLL,4, -12.061888, 31.936502
MM1B,74.932446
LL Grid Setup
LLGRID,No,No Grid,Yes,255,16711680,0,No Labels,0,16777215,7,1,Yes,x
Other Grid Setup
GRGRID,No,No Grid,Yes,255,16711680,No Labels,0,16777215,8,1,Yes,No,No,x
MOP,Map Open Position,0,0
IWH,Map Image Width/Height,100,100
