OziExplorer Map Data File Version 2.2
POINTE NOIRE______0409-W32BS.PNG
F:\mapas\africa\Africa Oeste (rusos) 1-500.000\POINTE NOIRE______0409-W32BS.PNG
1 ,Map Code,
Pulkovo 1942 (1),, 0.0000, 0.0000,WGS 84
Reserved 1
Reserved 2
Magnetic Variation,,,E
Map Projection,Latitude/Longitude,PolyCal,Yes,AutoCalOnly,No,BSBUseWPX,No
Point01,xy, 62, 71,in, deg, 4, 0.0000,S, 9, 0.0000,E, grid, , , ,
Point02,xy, 2298, 66,in, deg, 4, 0.0000,S, 10, 30.0000,E, grid, , , ,
Point03,xy, 4529, 61,in, deg, 4, 0.0000,S, 12, 0.0000,E, grid, , , ,
Point04,xy, 65, 1550,in, deg, 5, 0.0000,S, 9, 0.0000,E, grid, , , ,
Point05,xy, 2295, 1545,in, deg, 5, 0.0000,S, 10, 30.0000,E, grid, , , ,
Point06,xy, 4525, 1540,in, deg, 5, 0.0000,S, 12, 0.0000,E, grid, , , ,
Point07,xy, 69, 3029,in, deg, 6, 0.0000,S, 9, 0.0000,E, grid, , , ,
Point08,xy, 2296, 3023,in, deg, 6, 0.0000,S, 10, 30.0000,E, grid, , , ,
Point09,xy, 4521, 3020,in, deg, 6, 0.0000,S, 12, 0.0000,E, grid, , , ,
Point10,xy, , ,in, deg, , ,, , ,, grid, , , ,
Point11,xy, , ,in, deg, , ,, , ,, grid, , , ,
Point12,xy, , ,in, deg, , ,, , ,, grid, , , ,
Point13,xy, , ,in, deg, , ,, , ,, grid, , , ,
Point14,xy, , ,in, deg, , ,, , ,, grid, , , ,
Point15,xy, , ,in, deg, , ,, , ,, grid, , , ,
Point16,xy, , ,in, deg, , ,, , ,, grid, , , ,
Point17,xy, , ,in, deg, , ,, , ,, grid, , , ,
Point18,xy, , ,in, deg, , ,, , ,, grid, , , ,
Point19,xy, , ,in, deg, , ,, , ,, grid, , , ,
Point20,xy, , ,in, deg, , ,, , ,, grid, , , ,
Point21,xy, , ,in, deg, , ,, , ,, grid, , , ,
Point22,xy, , ,in, deg, , ,, , ,, grid, , , ,
Point23,xy, , ,in, deg, , ,, , ,, grid, , , ,
Point24,xy, , ,in, deg, , ,, , ,, grid, , , ,
Point25,xy, , ,in, deg, , ,, , ,, grid, , , ,
Point26,xy, , ,in, deg, , ,, , ,, grid, , , ,
Point27,xy, , ,in, deg, , ,, , ,, grid, , , ,
Point28,xy, , ,in, deg, , ,, , ,, grid, , , ,
Point29,xy, , ,in, deg, , ,, , ,, grid, , , ,
Point30,xy, , ,in, deg, , ,, , ,, grid, , , ,
Projection Setup,,,,,,,,,,
Map Feature = MF ; Map Comment = MC These follow if they exist
Track File = TF These follow if they exist
Moving Map Parameters = MM? These follow if they exist
MM0,Yes
MMPNUM,4
MMPXY,1,0,0
MMPXY,2,5005,0
MMPXY,3,4994,3089
MMPXY,4,0,3099
MMPLL,1, 8.958218, -3.951702
MMPLL,2, 12.319496, -3.959281
MMPLL,3, 12.319179, -6.047425
MMPLL,4, 8.953487, -6.047389
MM1B,74.367100
LL Grid Setup
LLGRID,No,No Grid,Yes,255,16711680,0,No Labels,0,16777215,7,1,Yes,x
Other Grid Setup
GRGRID,No,No Grid,Yes,255,16711680,No Labels,0,16777215,8,1,Yes,No,No,x
MOP,Map Open Position,0,0
IWH,Map Image Width/Height,100,100
