OziExplorer Map Data File Version 2.2
OWANDO____________0015-A33BS.PNG
F:\mapas\africa\Africa Oeste (rusos) 1-500.000\OWANDO____________0015-A33BS.PNG
1 ,Map Code,
Pulkovo 1942 (1),, 0.0000, 0.0000,WGS 84
Reserved 1
Reserved 2
Magnetic Variation,,,E
Map Projection,Latitude/Longitude,PolyCal,Yes,AutoCalOnly,No,BSBUseWPX,No
Point01,xy, 68, 70,in, deg, 0, 0.0000,N, 15, 0.0000,E, grid, , , ,
Point02,xy, 2305, 65,in, deg, 0, 0.0000,N, 16, 30.0000,E, grid, , , ,
Point03,xy, 4542, 65,in, deg, 0, 0.0000,N, 18, 0.0000,E, grid, , , ,
Point04,xy, 66, 1546,in, deg, 1, 0.0000,S, 15, 0.0000,E, grid, , , ,
Point05,xy, 2300, 1545,in, deg, 1, 0.0000,S, 16, 30.0000,E, grid, , , ,
Point06,xy, 4538, 1542,in, deg, 1, 0.0000,S, 18, 0.0000,E, grid, , , ,
Point07,xy, 64, 3023,in, deg, 2, 0.0000,S, 15, 0.0000,E, grid, , , ,
Point08,xy, 2298, 3023,in, deg, 2, 0.0000,S, 16, 30.0000,E, grid, , , ,
Point09,xy, 4535, 3021,in, deg, 2, 0.0000,S, 18, 0.0000,E, grid, , , ,
Point10,xy, , ,in, deg, , ,, , ,, grid, , , ,
Point11,xy, , ,in, deg, , ,, , ,, grid, , , ,
Point12,xy, , ,in, deg, , ,, , ,, grid, , , ,
Point13,xy, , ,in, deg, , ,, , ,, grid, , , ,
Point14,xy, , ,in, deg, , ,, , ,, grid, , , ,
Point15,xy, , ,in, deg, , ,, , ,, grid, , , ,
Point16,xy, , ,in, deg, , ,, , ,, grid, , , ,
Point17,xy, , ,in, deg, , ,, , ,, grid, , , ,
Point18,xy, , ,in, deg, , ,, , ,, grid, , , ,
Point19,xy, , ,in, deg, , ,, , ,, grid, , , ,
Point20,xy, , ,in, deg, , ,, , ,, grid, , , ,
Point21,xy, , ,in, deg, , ,, , ,, grid, , , ,
Point22,xy, , ,in, deg, , ,, , ,, grid, , , ,
Point23,xy, , ,in, deg, , ,, , ,, grid, , , ,
Point24,xy, , ,in, deg, , ,, , ,, grid, , , ,
Point25,xy, , ,in, deg, , ,, , ,, grid, , , ,
Point26,xy, , ,in, deg, , ,, , ,, grid, , , ,
Point27,xy, , ,in, deg, , ,, , ,, grid, , , ,
Point28,xy, , ,in, deg, , ,, , ,, grid, , , ,
Point29,xy, , ,in, deg, , ,, , ,, grid, , , ,
Point30,xy, , ,in, deg, , ,, , ,, grid, , , ,
Projection Setup,,,,,,,,,,
Map Feature = MF ; Map Comment = MC These follow if they exist
Track File = TF These follow if they exist
Moving Map Parameters = MM? These follow if they exist
MM0,Yes
MMPNUM,4
MMPXY,1,0,0
MMPXY,2,5070,0
MMPXY,3,5062,3090
MMPXY,4,0,3092
MMPLL,1, 14.953923, 0.046993
MMPLL,2, 18.353289, 0.043031
MMPLL,3, 18.353424, -2.046557
MMPLL,4, 14.957055, -2.046356
MM1B,74.589104
LL Grid Setup
LLGRID,No,No Grid,Yes,255,16711680,0,No Labels,0,16777215,7,1,Yes,x
Other Grid Setup
GRGRID,No,No Grid,Yes,255,16711680,No Labels,0,16777215,8,1,Yes,No,No,x
MOP,Map Open Position,0,0
IWH,Map Image Width/Height,100,100
